BEGIN:VCALENDAR
VERSION:2.0
PRODID:-//Aotea Great Barrier Island - ECPv6.15.4//NONSGML v1.0//EN
CALSCALE:GREGORIAN
METHOD:PUBLISH
X-ORIGINAL-URL:https://www.greatbarrier.co.nz
X-WR-CALDESC:Events for Aotea Great Barrier Island
REFRESH-INTERVAL;VALUE=DURATION:PT1H
X-Robots-Tag:noindex
X-PUBLISHED-TTL:PT1H
BEGIN:VTIMEZONE
TZID:Pacific/Auckland
BEGIN:STANDARD
TZOFFSETFROM:+1300
TZOFFSETTO:+1200
TZNAME:NZST
DTSTART:20240406T140000
END:STANDARD
BEGIN:DAYLIGHT
TZOFFSETFROM:+1200
TZOFFSETTO:+1300
TZNAME:NZDT
DTSTART:20240928T140000
END:DAYLIGHT
END:VTIMEZONE
BEGIN:VEVENT
DTSTART;TZID=Pacific/Auckland:20240403T200000
DTEND;TZID=Pacific/Auckland:20240403T213000
DTSTAMP:20260424T013327
CREATED:20240319T043022Z
LAST-MODIFIED:20240319T043022Z
UID:9883-1712174400-1712179800@www.greatbarrier.co.nz
SUMMARY:International Dark Sky Week Community Stargazing Event
DESCRIPTION:Dark Sky Evening at Tryphena Social Club \nOur island Dark Sky Enthusiasts Group will bring telescopes\, binoculars and a yarn. \nLet’s celebrate Aotea’s super dark sky! \nEveryone welcome.
URL:https://www.greatbarrier.co.nz/event/international-dark-sky-week-community-stargazing-event/
LOCATION:Barrier Social Club
CATEGORIES:Dark Skies
ATTACH;FMTTYPE=image/jpeg:https://www.greatbarrier.co.nz/wp-content/uploads/2024/03/431688566_717646530235208_2594355780682496286_n.jpg
ORGANIZER;CN="Dark Sky Enthusiasts Group":MAILTO:deborahkilgallon@gmail.com
END:VEVENT
BEGIN:VEVENT
DTSTART;TZID=Pacific/Auckland:20240405T200000
DTEND;TZID=Pacific/Auckland:20240405T213000
DTSTAMP:20260424T013327
CREATED:20240319T043320Z
LAST-MODIFIED:20240319T043320Z
UID:9889-1712347200-1712352600@www.greatbarrier.co.nz
SUMMARY:International Dark Sky Week Community Stargazing Event
DESCRIPTION:Dark Sky Evening at Claris Social Club \nOur island Dark Sky Enthusiasts Group will bring telescopes\, binoculars and a yarn. \nLet’s celebrate Aotea’s super dark sky! \nEveryone welcome.
URL:https://www.greatbarrier.co.nz/event/international-dark-sky-week-community-stargazing-event-2/
LOCATION:Claris Sports Club\, 19 Whangaparapara Road\, Claris\, Great Barrier Island\, New Zealand
CATEGORIES:Dark Skies
ATTACH;FMTTYPE=image/jpeg:https://www.greatbarrier.co.nz/wp-content/uploads/2024/03/431688566_717646530235208_2594355780682496286_n.jpg
END:VEVENT
BEGIN:VEVENT
DTSTART;TZID=Pacific/Auckland:20240427T193000
DTEND;TZID=Pacific/Auckland:20240427T210000
DTSTAMP:20260424T013327
CREATED:20240119T091155Z
LAST-MODIFIED:20240119T091155Z
UID:7171-1714246200-1714251600@www.greatbarrier.co.nz
SUMMARY:Good Heavens Moon Walk Stargazing Experience
DESCRIPTION:Relax in a comfy moon chair\, while you look up and enjoy our stunning moonlit sky as you hear the waves lap against the shore and see the moon light play on the ocean. Have constellations drawn in the sky\, while you enjoy a cup of hot chocolate or herbal tea. Moongazing does not get more enjoyable than this! \nDuring your stargazing experience\, from the top of the dunes\, we will look through our 8” Dobsonian Telescope to get close and personal with the brightest stars and celestial objects. Many are unique to the Southern Hemisphere. \nGood Heavens’ group location on Great Barrier Island\, at Medlands Beach is easily accessible\, even for the less sure-footed. It is only 50 meters from the car park. If you like some visibility in the dark\, than a Moon Walk is the experience for you. \nCome and enjoy the Moon and our starry sky with Good Heavens!
URL:https://www.greatbarrier.co.nz/event/good-heavens-moon-walk-stargazing-experience-9/
CATEGORIES:Dark Skies,Tours
ATTACH;FMTTYPE=image/jpeg:https://www.greatbarrier.co.nz/wp-content/uploads/2024/01/Good-Heavens-Moon-Walk-2-1.jpg
ORGANIZER;CN="Good Heavens":MAILTO:info@goodheavens.co.nz
END:VEVENT
END:VCALENDAR