BEGIN:VCALENDAR
VERSION:2.0
PRODID:-//Aotea Great Barrier Island - ECPv6.15.4//NONSGML v1.0//EN
CALSCALE:GREGORIAN
METHOD:PUBLISH
X-ORIGINAL-URL:https://www.greatbarrier.co.nz
X-WR-CALDESC:Events for Aotea Great Barrier Island
REFRESH-INTERVAL;VALUE=DURATION:PT1H
X-Robots-Tag:noindex
X-PUBLISHED-TTL:PT1H
BEGIN:VTIMEZONE
TZID:Pacific/Auckland
BEGIN:STANDARD
TZOFFSETFROM:+1300
TZOFFSETTO:+1200
TZNAME:NZST
DTSTART:20240406T140000
END:STANDARD
BEGIN:DAYLIGHT
TZOFFSETFROM:+1200
TZOFFSETTO:+1300
TZNAME:NZDT
DTSTART:20240928T140000
END:DAYLIGHT
END:VTIMEZONE
BEGIN:VEVENT
DTSTART;TZID=Pacific/Auckland:20240102T213000
DTEND;TZID=Pacific/Auckland:20240102T230000
DTSTAMP:20260425T034824
CREATED:20231221T230555Z
LAST-MODIFIED:20231221T230555Z
UID:6831-1704231000-1704236400@www.greatbarrier.co.nz
SUMMARY:Stargazing Experience with Good Heavens – For a stellar start to 2024
DESCRIPTION:Make the most of your time on our beautiful island\, by adding on this activity after dark. Our guides love the excitement they feel when we look up and get lost in the stars. They are looking forward to sharing this feeling with you. \nHave a look at our closest neighbour planets and stars and the oldest object you will ever see. (Never mind the Antiques Roadshow).  You may even gain a different perspective on our universe and your space within.  \nOur small groups of up to twelve participants ensure a personalised experience. \nAn overnight stay on Aotea Great Barrier Island is required to come stargazing with us. \nSubject to availability with a maximum of 12 stargazers.
URL:https://www.greatbarrier.co.nz/event/stargazing-experience-with-good-heavens-for-a-stellar-start-to-2024/
CATEGORIES:Dark Skies
ATTACH;FMTTYPE=image/jpeg:https://www.greatbarrier.co.nz/wp-content/uploads/2023/12/Good-Heavens-Moon-Walk-Moonlight-at-Medlands--scaled.jpg
ORGANIZER;CN="Good Heavens":MAILTO:info@goodheavens.co.nz
END:VEVENT
BEGIN:VEVENT
DTSTART;TZID=Pacific/Auckland:20240107T213000
DTEND;TZID=Pacific/Auckland:20240107T230000
DTSTAMP:20260425T034824
CREATED:20231221T230618Z
LAST-MODIFIED:20231221T230618Z
UID:6837-1704663000-1704668400@www.greatbarrier.co.nz
SUMMARY:Stargazing Experience with Good Heavens - For a stellar start to 2024
DESCRIPTION:Start the year with a Stargazing Experience on Aotea Great Barrier Island \nAll Good Heavens’ experiences take place in beautiful spots. Our group experience at Medlands Beach is on a sand dune. This means you’ll hear the waves lapping on the beach while looking up and getting lost in the stars.  \nThe island’s Dark Sky Sanctuary status means that our skies are wonderfully dark and our guides are looking forward to showing you some of the best stellar objects in the Milky Way\, and even some outside! The subtropical climate on Aotea Great Barrier Island allows for a warmer stargazing experience than many other New Zealand places\, too. So you can just relax in comfort with your feet in the sand and a blanket over your lap.  \nAvailability is limited to 12 stargazers.
URL:https://www.greatbarrier.co.nz/event/stargazing-experience-with-good-heavens-for-a-stellar-start-to-2024-2/
CATEGORIES:Dark Skies
ATTACH;FMTTYPE=image/jpeg:https://www.greatbarrier.co.nz/wp-content/uploads/2023/12/unnamed-file.jpg
ORGANIZER;CN="Good Heavens":MAILTO:info@goodheavens.co.nz
END:VEVENT
BEGIN:VEVENT
DTSTART;TZID=Pacific/Auckland:20240121T213000
DTEND;TZID=Pacific/Auckland:20240121T230000
DTSTAMP:20260425T034824
CREATED:20240119T000132Z
LAST-MODIFIED:20240119T000132Z
UID:7129-1705872600-1705878000@www.greatbarrier.co.nz
SUMMARY:Good Heavens Moon Walk Stargazing Experience
DESCRIPTION:A Good Heavens stargazing experience of 1.5-2 hours will take you on a comfortable and entertaining journey through our universe\, while you learn to use constellations and stars to orientate yourself and listen to ancient myths. \nFor around a week each month\, the moon shines brightly in the evening sky. It the perfect time to meet us at a beautiful\, white sand beach for a moon- and stargazing group experience. If the tide is low enough we may go for a stroll on the moon lit beach. And we’ll definitely gaze at the moon’s features up close and hear her stories. Be prepared for moonlight shimmering on the waves. A stunning sight.
URL:https://www.greatbarrier.co.nz/event/good-heavens-moon-walk-stargazing-experience-2/
CATEGORIES:Dark Skies
ATTACH;FMTTYPE=image/jpeg:https://www.greatbarrier.co.nz/wp-content/uploads/2024/01/Good-Heavens-Moon-Walk-2.jpg
ORGANIZER;CN="Good Heavens":MAILTO:info@goodheavens.co.nz
END:VEVENT
END:VCALENDAR