BEGIN:VCALENDAR
VERSION:2.0
PRODID:-//Aotea Great Barrier Island - ECPv6.15.4//NONSGML v1.0//EN
CALSCALE:GREGORIAN
METHOD:PUBLISH
X-ORIGINAL-URL:https://www.greatbarrier.co.nz
X-WR-CALDESC:Events for Aotea Great Barrier Island
REFRESH-INTERVAL;VALUE=DURATION:PT1H
X-Robots-Tag:noindex
X-PUBLISHED-TTL:PT1H
BEGIN:VTIMEZONE
TZID:Pacific/Auckland
BEGIN:STANDARD
TZOFFSETFROM:+1300
TZOFFSETTO:+1200
TZNAME:NZST
DTSTART:20200404T140000
END:STANDARD
BEGIN:DAYLIGHT
TZOFFSETFROM:+1200
TZOFFSETTO:+1300
TZNAME:NZDT
DTSTART:20200926T140000
END:DAYLIGHT
BEGIN:STANDARD
TZOFFSETFROM:+1300
TZOFFSETTO:+1200
TZNAME:NZST
DTSTART:20210403T140000
END:STANDARD
BEGIN:DAYLIGHT
TZOFFSETFROM:+1200
TZOFFSETTO:+1300
TZNAME:NZDT
DTSTART:20210925T140000
END:DAYLIGHT
END:VTIMEZONE
BEGIN:VEVENT
DTSTART;VALUE=DATE:20201201
DTEND;VALUE=DATE:20210101
DTSTAMP:20260422T062138
CREATED:20201209T231941Z
LAST-MODIFIED:20201210T012920Z
UID:2104-1606780800-1609459199@www.greatbarrier.co.nz
SUMMARY:Sealink Food Drive - Giving back to Aotea/Great Barrier and Waiheke Island communities
DESCRIPTION:This year\, SeaLink will be running a food drive right through December at all our terminals and onboard all vehicle and passenger ferries!  \nWe’re collecting non-perishable food and toiletries to help support the communities on Waiheke and Great Barrier Island this Christmas and New Year. Just pop any donation you have\, big or small\, into the Hamer St\, Half Moon Bay\, Kennedy Point terminals or onboard the ferries (including our Clippers). \nAll donations will be split between the Waiheke Budgeting Services Trust on Waiheke Island and the St John Community Church on Great Barrier Island.\nIt’s been quite a year so we hope\, with your help\, we can end 2020 with some positive community cheer!
URL:https://www.greatbarrier.co.nz/event/sealink-food-drive-giving-back-to-aotea-great-barrier-and-waiheke-island-communities/
LOCATION:Sealink Ferry
CATEGORIES:Community
ORGANIZER;CN="Sealink":MAILTO:info@sealink
END:VEVENT
BEGIN:VEVENT
DTSTART;TZID=Pacific/Auckland:20201205T100000
DTEND;TZID=Pacific/Auckland:20201205T120000
DTSTAMP:20260422T062138
CREATED:20200819T030531Z
LAST-MODIFIED:20200928T192145Z
UID:192-1607162400-1607169600@www.greatbarrier.co.nz
SUMMARY:Santa Parade & Christmas Market
DESCRIPTION:Come and enjoy the annual Santa Parade & Christmas Market Day at the Claris Sports Club. Check out the amazing floats\, gaze in awe at Santa as he cruises by on some weird contraption or another. \nLocal Produce & Products\, Sausage Sizzles\, Live Entertainment\, Water Slide\, Lolly Scramble & other activities for the kids to enjoy. Always a fun day for the whole family. See you there!
URL:https://www.greatbarrier.co.nz/event/santa-parade-christmas-market/
LOCATION:Claris Sports Club\, 19 Whangaparapara Road\, Claris\, Great Barrier Island\, New Zealand
CATEGORIES:Community,Market,Music
END:VEVENT
BEGIN:VEVENT
DTSTART;TZID=Pacific/Auckland:20201207T120000
DTEND;TZID=Pacific/Auckland:20201207T150000
DTSTAMP:20260422T062138
CREATED:20201127T030225Z
LAST-MODIFIED:20201127T033027Z
UID:2002-1607342400-1607353200@www.greatbarrier.co.nz
SUMMARY:Destination Great Barrier Island AGM
DESCRIPTION:Destination Great Barrier Island AGM\nSave the date! \nTea\, Coffee & a Light Lunch \nWith all the normal AGM agenda items\, plus an\nupdate on destination management\, hearing\nfrom stakeholders\, introducing new\nvisitor information resources and a chance to\ndiscuss challenges and projects for the coming\nyear. \nSee you there.
URL:https://www.greatbarrier.co.nz/event/destination-great-barrier-island-agm/
LOCATION:Claris Conference Centre
CATEGORIES:Community
ORGANIZER;CN="DGBI":MAILTO:info@dgbi.co.nz
END:VEVENT
BEGIN:VEVENT
DTSTART;TZID=Pacific/Auckland:20201213T150000
DTEND;TZID=Pacific/Auckland:20201213T180000
DTSTAMP:20260422T062138
CREATED:20201206T004804Z
LAST-MODIFIED:20201206T004804Z
UID:2068-1607871600-1607882400@www.greatbarrier.co.nz
SUMMARY:Maha Taonga o Aotea
DESCRIPTION:Do you see whales and Dolphins around Aotea? \nEver wondered what species you are seeing and what they are doing? \n  \nLearn more about the amazing marine mammals found around our shores and how you can be involved in an exciting new Citizen Science project to monitor marine mammals around Aotea. \n  \nThere will be a whale and dolphin themed kids craft corner\, including how to make an origami whale!
URL:https://www.greatbarrier.co.nz/event/maha-taonga-o-aotea/
LOCATION:Okiwi DOC Office\, 1501 Aotea Road
CATEGORIES:Beaches,Nature
END:VEVENT
BEGIN:VEVENT
DTSTART;TZID=Pacific/Auckland:20201224T190000
DTEND;TZID=Pacific/Auckland:20201224T213000
DTSTAMP:20260422T062138
CREATED:20201210T053929Z
LAST-MODIFIED:20201220T232505Z
UID:2115-1608836400-1608845400@www.greatbarrier.co.nz
SUMMARY:Carol service
DESCRIPTION:St John’s Church annual Carol service.
URL:https://www.greatbarrier.co.nz/event/carol-service/
LOCATION:Medlands Beach\, Oruawharo Bay\, 0991\, New Zealand
CATEGORIES:Community,Music
ORGANIZER;CN="St Johns Church":MAILTO:stjohnsgbi@gmail.com
END:VEVENT
BEGIN:VEVENT
DTSTART;TZID=Pacific/Auckland:20201231T160000
DTEND;TZID=Pacific/Auckland:20210101T010000
DTSTAMP:20260422T062138
CREATED:20201209T185309Z
LAST-MODIFIED:20201226T012400Z
UID:2092-1609430400-1609462800@www.greatbarrier.co.nz
SUMMARY:New Years Eve at Barrier Social Club
DESCRIPTION:New Years Eve 2021 will be an evening for members and guests to enjoy an evening of music. \n70’s rock music. \nKitchen open from 6pm.\nNumbers will be limited\,and members will be prioritized\, so get in quick to avoid disappointment! \nA Koha of $5 and up on the door would be greatly appreciated to cover the cost of the evening.
URL:https://www.greatbarrier.co.nz/event/new-years-eve-at-barrier-social-club/
LOCATION:Barrier Social Club
CATEGORIES:Music
END:VEVENT
END:VCALENDAR