BEGIN:VCALENDAR
VERSION:2.0
PRODID:-//Aotea Great Barrier Island - ECPv6.15.4//NONSGML v1.0//EN
CALSCALE:GREGORIAN
METHOD:PUBLISH
X-WR-CALNAME:Aotea Great Barrier Island
X-ORIGINAL-URL:https://www.greatbarrier.co.nz
X-WR-CALDESC:Events for Aotea Great Barrier Island
REFRESH-INTERVAL;VALUE=DURATION:PT1H
X-Robots-Tag:noindex
X-PUBLISHED-TTL:PT1H
BEGIN:VTIMEZONE
TZID:Pacific/Auckland
BEGIN:STANDARD
TZOFFSETFROM:+1300
TZOFFSETTO:+1200
TZNAME:NZST
DTSTART:20240406T140000
END:STANDARD
BEGIN:DAYLIGHT
TZOFFSETFROM:+1200
TZOFFSETTO:+1300
TZNAME:NZDT
DTSTART:20240928T140000
END:DAYLIGHT
END:VTIMEZONE
BEGIN:VEVENT
DTSTART;TZID=Pacific/Auckland:20240831T170000
DTEND;TZID=Pacific/Auckland:20240831T233000
DTSTAMP:20260422T141445
CREATED:20240815T013729Z
LAST-MODIFIED:20240815T013851Z
UID:14475-1725123600-1725147000@www.greatbarrier.co.nz
SUMMARY:Barrier Mid-Winter Ball - 70s/80s Theme Ft the Fleetwoods
DESCRIPTION:Barrier Air Presents\nTHE MID-WINTER BALL (70S/80S THEME)Presenting Fleetwood Mac (The Fleetwoods)\n\nWhats included in your ticket price?\n1 x Free Drink\nVoting for King & Queen closes 8pm\nEarlybird Tickets (brought before 15th August) go into a draw for spot prizes\nMust have some good old Barrier style fun\nThe Fleetwoods (NZ #1 Fleetwood Mac Band)\n\nABOUT THE BANDThe Fleetwoods is a collective of top NZ musicians who have a mutual appreciation of the vanguards of music – Fleetwood Mac.\nThe show features two high intensity sets from the Peter Green era through to the 80s favourites – including all the hits from\nLandslide\, The Chain and Rhiannon; played by passionate and talented musicians.\n\nTom Irvine leads the band.\n\n“I grew up listening to Fleetwood Mac on my parents’ record collection\,” he says. “It has been amazing to experience the love New Zealanders have for this music.”\nThe Fleetwoods honour the unique tunes and play 100% true to the authenticity of Fleetwood Mac’s music.\nWith sold out shows across the North and South Island\, Fleetwood Mac’s unforgettable songs are played with energy and soul\, leaving audiences wanting more. Tickets are limited – get in quick!
URL:https://www.greatbarrier.co.nz/event/barrier-mid-winter-ball-70s-80s-theme-ft-the-fleetwoods/
LOCATION:Barrier Social Club
CATEGORIES:Annual,Community,Entertainment,Music
ATTACH;FMTTYPE=image/jpeg:https://www.greatbarrier.co.nz/wp-content/uploads/2024/08/450809951_1040573010834162_3498420812191828068_n.jpg
ORGANIZER;CN="Barrier Social Club":MAILTO:barriersocial@gmail.com
END:VEVENT
END:VCALENDAR