BEGIN:VCALENDAR
VERSION:2.0
PRODID:-//Aotea Great Barrier Island - ECPv6.15.4//NONSGML v1.0//EN
CALSCALE:GREGORIAN
METHOD:PUBLISH
X-WR-CALNAME:Aotea Great Barrier Island
X-ORIGINAL-URL:https://www.greatbarrier.co.nz
X-WR-CALDESC:Events for Aotea Great Barrier Island
REFRESH-INTERVAL;VALUE=DURATION:PT1H
X-Robots-Tag:noindex
X-PUBLISHED-TTL:PT1H
BEGIN:VTIMEZONE
TZID:Pacific/Auckland
BEGIN:STANDARD
TZOFFSETFROM:+1300
TZOFFSETTO:+1200
TZNAME:NZST
DTSTART:20240406T140000
END:STANDARD
BEGIN:DAYLIGHT
TZOFFSETFROM:+1200
TZOFFSETTO:+1300
TZNAME:NZDT
DTSTART:20240928T140000
END:DAYLIGHT
BEGIN:STANDARD
TZOFFSETFROM:+1300
TZOFFSETTO:+1200
TZNAME:NZST
DTSTART:20250405T140000
END:STANDARD
BEGIN:DAYLIGHT
TZOFFSETFROM:+1200
TZOFFSETTO:+1300
TZNAME:NZDT
DTSTART:20250927T140000
END:DAYLIGHT
END:VTIMEZONE
BEGIN:VEVENT
DTSTART;TZID=Pacific/Auckland:20240930T190000
DTEND;TZID=Pacific/Auckland:20240930T220000
DTSTAMP:20260421T182905
CREATED:20240902T031614Z
LAST-MODIFIED:20240902T031614Z
UID:14798-1727722800-1727733600@www.greatbarrier.co.nz
SUMMARY:Movie Night - Special Event - One Life
DESCRIPTION:ONE LIFE – SPECIAL EVENT – MONDAY 30 SEPTEMBER \nThe true life story of Sir Nicholas ‘Nicky’ Winton\, a young London broker who\, in the months leading up to World War II\, rescued over 600 children from Nazi-occupied Czechoslovakia. We will be joined in person by Helene Ritchie whose Uncle was one of these children to share his story & her new book. \nA Q & A session will run after the film. \nGenre: Biography\, History   Rating: PG \nTrailer: https://www.youtube.com/watch?v=6ethollg-PI \nPlease reply to this email if you would like to know more about Helene’s book and you can pre-pay for a copy at $45. \nThe Burned letter\, a New Zealander’s Holocaust Mystery.  \nBy Helene Ritchie HR Press 2023.
URL:https://www.greatbarrier.co.nz/event/movie-night-special-event-one-life/
LOCATION:Barrier Social Club
CATEGORIES:Entertainment,Evening activity,Island Screens - Movie Club
END:VEVENT
BEGIN:VEVENT
DTSTART;VALUE=DATE:20241005
DTEND;VALUE=DATE:20241006
DTSTAMP:20260421T182905
CREATED:20240902T032942Z
LAST-MODIFIED:20240902T032942Z
UID:14803-1728086400-1728172799@www.greatbarrier.co.nz
SUMMARY:Kids Movie Club - Details TBC
DESCRIPTION:Kids movie club will be 21st September & 5 October. More details will follow soon. These will be our last kids sessions for the year.
URL:https://www.greatbarrier.co.nz/event/kids-movie-club-details-tbc-2/
LOCATION:Barrier Social Club
CATEGORIES:Children's Activities,Island Screens - Movie Club
END:VEVENT
BEGIN:VEVENT
DTSTART;TZID=Pacific/Auckland:20241005T150000
DTEND;TZID=Pacific/Auckland:20241005T170000
DTSTAMP:20260421T182905
CREATED:20240911T034005Z
LAST-MODIFIED:20240929T231613Z
UID:15013-1728140400-1728147600@www.greatbarrier.co.nz
SUMMARY:Kids Movie Club - Scary Girl
DESCRIPTION:Island Screens brings you:  kids movie club ! Showing: Scarygirl \nSaturday 5 October 3pm at Barrier Social Club. \nFree entry – all welcome \nPlease note that children must be accompanied by a parent or guardian. \nAs her world is shrouded in darkness\, a young girl must overcome her fears and travel to a mysterious city of light\, save her father from a dangerous scientist and prevent the destruction of her planet.             With the voice of Sam Neill. **Official Selection Sydney film festival********* \nRating: PG    Genre: Australian Animation\, Adventure  Run time 90 mins. \n“Imaginatively directed and visually stunning”\, AU review.            86% Rotten Tomatoes review.
URL:https://www.greatbarrier.co.nz/event/kids-movie-club-scary-girl/
LOCATION:Barrier Social Club
CATEGORIES:Children's Activities,Island Screens - Movie Club
ATTACH;FMTTYPE=image/jpeg:https://www.greatbarrier.co.nz/wp-content/uploads/2024/09/MV5BYTA2NTlkNDUtYjRmYS00ZjQ0LWIzMjctNDQxOTYzZDAzOGVlXkEyXkFqcGdeQXVyMTUzMzU4Nw@@._V1_FMjpg_UX1000_.jpg
END:VEVENT
BEGIN:VEVENT
DTSTART;TZID=Pacific/Auckland:20241014T191500
DTEND;TZID=Pacific/Auckland:20241014T213000
DTSTAMP:20260421T182905
CREATED:20240929T232453Z
LAST-MODIFIED:20240930T015449Z
UID:15486-1728933300-1728941400@www.greatbarrier.co.nz
SUMMARY:Short Film Festival - "The Sampler"
DESCRIPTION:Island Screens is delighted to be a part of the nationwide SHORT FILM FESTIVAL – Monday 14 October 7.15pm at Barrier Social Club. \nWe will screen “The Sampler” showing the highlights of the festival with short films from around the globe! All welcome to this very entertaining\, unique night out. No need to book – entry is $10 cash on the door. \nRating: M Genre: a variety! \nFollow us on FB: gbiislandscreens
URL:https://www.greatbarrier.co.nz/event/short-film-festival-the-sampler/
LOCATION:Barrier Social Club
CATEGORIES:Arts,Evening activity,Island Screens - Movie Club
END:VEVENT
BEGIN:VEVENT
DTSTART;TZID=Pacific/Auckland:20241104T180000
DTEND;TZID=Pacific/Auckland:20241104T210000
DTSTAMP:20260421T182905
CREATED:20241030T043625Z
LAST-MODIFIED:20241030T043625Z
UID:16162-1730743200-1730754000@www.greatbarrier.co.nz
SUMMARY:Movie night - Six inches of Soil - with Island Screens
DESCRIPTION:Join us to see this newly released UK doco called Six inches of Soil.\nIt follows 3 young farmers on their pathway to put the ideas of regenerative farming into practice.\nWe will be joined in the room by local Aotea gardeners and part of the Aotea food resilience project:\nCaity Endt & Jo O’Reilly \nThere will be 2 screenings\n4 November at Barrier Social Club\n26 November at the Okiwi Community room \nEntry is $10 cash on the door – all welcome.\nMovie starts 7.15pm\nFabulous food available from 5.30pm\nFB: gbiislandscreens
URL:https://www.greatbarrier.co.nz/event/movie-night-six-inches-of-soil-with-island-screens/
LOCATION:Barrier Social Club
CATEGORIES:Community,Cultural,Entertainment,Evening activity,Food,Guest Speakers,Island Screens - Movie Club,Nature
ATTACH;FMTTYPE=image/jpeg:https://www.greatbarrier.co.nz/wp-content/uploads/2024/10/Six-inches-of-Soil-flyer-rotated.jpg
END:VEVENT
BEGIN:VEVENT
DTSTART;TZID=Pacific/Auckland:20241118T170000
DTEND;TZID=Pacific/Auckland:20241118T210000
DTSTAMP:20260421T182905
CREATED:20241114T234031Z
LAST-MODIFIED:20241114T234031Z
UID:16421-1731949200-1731963600@www.greatbarrier.co.nz
SUMMARY:Island Screens GBI Movie Club 18/11/24
DESCRIPTION:SPECIAL EVENT ***ISLAND SCREENS** Maurice & I\nMonday 18 November 7.15pm @ Barrier Social Club\nWe will be joined in person by Jane Mahoney the co-producer & co-director of this unique kiwi doco.\nEntry is $10 on the door. Fab food from 5.30pm. All welcome ! \nHaving lost almost their entire life’s work in the 2011 Christchurch earthquakes\, there iconic NZ architects fight to save their finest building from demolition. The film includes rare archival footage & exclusive interviews. ….and reflects on the enduring importance of architecture in shaping and enriching communal life.
URL:https://www.greatbarrier.co.nz/event/island-screens-gbi-movie-club-18-11-24/
LOCATION:Barrier Social Club
CATEGORIES:Arts,Community,Entertainment,Evening activity,Guest Speakers,Island Screens - Movie Club
END:VEVENT
BEGIN:VEVENT
DTSTART;TZID=Pacific/Auckland:20241125T190000
DTEND;TZID=Pacific/Auckland:20241125T213000
DTSTAMP:20260421T182905
CREATED:20241115T002810Z
LAST-MODIFIED:20241115T002810Z
UID:16570-1732561200-1732570200@www.greatbarrier.co.nz
SUMMARY:Island Screens - The Convert
DESCRIPTION:
URL:https://www.greatbarrier.co.nz/event/island-screens-the-convert/
LOCATION:Barrier Social Club
CATEGORIES:Entertainment,Evening activity,Island Screens - Movie Club
END:VEVENT
BEGIN:VEVENT
DTSTART;TZID=Pacific/Auckland:20241126T191500
DTEND;TZID=Pacific/Auckland:20241126T213000
DTSTAMP:20260421T182905
CREATED:20241115T003318Z
LAST-MODIFIED:20241115T003318Z
UID:16574-1732648500-1732656600@www.greatbarrier.co.nz
SUMMARY:Six Inches of Soil - Film Screening  - Ōkiwi kura
DESCRIPTION:
URL:https://www.greatbarrier.co.nz/event/six-inches-of-soil-film-screening-okiwi-kura/
LOCATION:Okiwi School
CATEGORIES:Entertainment,Evening activity,Island Screens - Movie Club
END:VEVENT
BEGIN:VEVENT
DTSTART;TZID=Pacific/Auckland:20241202T190000
DTEND;TZID=Pacific/Auckland:20241202T213000
DTSTAMP:20260421T182905
CREATED:20241115T004143Z
LAST-MODIFIED:20241115T004240Z
UID:16584-1733166000-1733175000@www.greatbarrier.co.nz
SUMMARY:Island Screens - ABC Surf Movie Night - The Road to Patagonia
DESCRIPTION:
URL:https://www.greatbarrier.co.nz/event/island-screens-abc-surf-movie-night-the-road-to-patagonia/
LOCATION:Barrier Social Club
CATEGORIES:Entertainment,Evening activity,Island Screens - Movie Club
END:VEVENT
BEGIN:VEVENT
DTSTART;TZID=Pacific/Auckland:20250217T191500
DTEND;TZID=Pacific/Auckland:20250217T213000
DTSTAMP:20260421T182905
CREATED:20250209T064645Z
LAST-MODIFIED:20250209T064645Z
UID:17987-1739819700-1739827800@www.greatbarrier.co.nz
SUMMARY:Island Screens - "Aftersun"
DESCRIPTION:ISLAND SCREENS RETURNS FOR 2025 !\nCome & enjoy a night out at Barrier Social Club\nMonday is movie night – starts 17 February @ 7.15pm\nEntry is $10 / $15 cash on the door. \nALL WELCOME – SUPPORT LOCAL\nCome early for yummy meals from 5.30pm\nPosters on local noticeboards have the film details\nOr follow us on FB: gbiislandscreens
URL:https://www.greatbarrier.co.nz/event/island-screens-aftersun/
LOCATION:Barrier Social Club
CATEGORIES:Entertainment,Evening activity,Island Screens - Movie Club
END:VEVENT
BEGIN:VEVENT
DTSTART;TZID=Pacific/Auckland:20250224T191500
DTEND;TZID=Pacific/Auckland:20250224T213000
DTSTAMP:20260421T182905
CREATED:20250209T064900Z
LAST-MODIFIED:20250209T065746Z
UID:17990-1740424500-1740432600@www.greatbarrier.co.nz
SUMMARY:Island Screens - "Lee"
DESCRIPTION:ISLAND SCREENS RETURNS FOR 2025 !\nCome & enjoy a night out at Barrier Social Club\nMonday is movie night\nEntry is $10 / $15 cash on the door.\nALL WELCOME – SUPPORT LOCAL\nCome early for yummy meals from 5.30pm\nPosters on local noticeboards have the film details\nOr follow us on FB: gbiislandscreens
URL:https://www.greatbarrier.co.nz/event/island-screens-lee/
LOCATION:Barrier Social Club
CATEGORIES:Entertainment,Evening activity,Island Screens - Movie Club
ATTACH;FMTTYPE=image/jpeg:https://www.greatbarrier.co.nz/wp-content/uploads/2025/02/images-1.jpeg
END:VEVENT
BEGIN:VEVENT
DTSTART;TZID=Pacific/Auckland:20250303T191500
DTEND;TZID=Pacific/Auckland:20250303T213000
DTSTAMP:20260421T182905
CREATED:20250209T070217Z
LAST-MODIFIED:20250209T070749Z
UID:17993-1741029300-1741037400@www.greatbarrier.co.nz
SUMMARY:Island Screens - "Touch"
DESCRIPTION:ISLAND SCREENS RETURNS FOR 2025 !\nCome &amp; enjoy a night out at Barrier Social Club\nMonday is movie night – starts  7.15pm\nEntry is $10 / $15 cash on the door. \nALL WELCOME – SUPPORT LOCAL\nCome early for yummy meals from 5.30pm\nPosters on local noticeboards have the film details\nOr follow us on FB: gbiislandscreens
URL:https://www.greatbarrier.co.nz/event/island-screens-touch/
LOCATION:Barrier Social Club
CATEGORIES:Entertainment,Evening activity,Island Screens - Movie Club
ATTACH;FMTTYPE=image/jpeg:https://www.greatbarrier.co.nz/wp-content/uploads/2025/02/download.jpeg
END:VEVENT
BEGIN:VEVENT
DTSTART;TZID=Pacific/Auckland:20250324T191500
DTEND;TZID=Pacific/Auckland:20250324T210000
DTSTAMP:20260421T182905
CREATED:20250319T180458Z
LAST-MODIFIED:20250319T180629Z
UID:18649-1742843700-1742850000@www.greatbarrier.co.nz
SUMMARY:Island Screens - La Chimera
DESCRIPTION:ISLAND SCREENS \nCome & enjoy a night out at Barrier Social Club\nMonday is movie night – starts  7.15pm\nEntry is $10 / $15 cash on the door. \nALL WELCOME – SUPPORT LOCAL\nCome early for yummy meals from 5.30pm\nPosters on local noticeboards have the film details\nOr follow us on FB: gbiislandscreens
URL:https://www.greatbarrier.co.nz/event/island-screens-la-chimera/
LOCATION:Barrier Social Club
CATEGORIES:Community,Entertainment,Evening activity,Island Screens - Movie Club
END:VEVENT
BEGIN:VEVENT
DTSTART;TZID=Pacific/Auckland:20250331T191500
DTEND;TZID=Pacific/Auckland:20250331T210000
DTSTAMP:20260421T182905
CREATED:20250319T192642Z
LAST-MODIFIED:20250319T192806Z
UID:18681-1743448500-1743454800@www.greatbarrier.co.nz
SUMMARY:Island Screens Movie Night: Two Tickets to Greece
DESCRIPTION:Come & enjoy a night out at Barrier Social Club\nMonday is movie night\nEntry is $10 / $15 cash on the door.\nALL WELCOME – SUPPORT LOCAL\nCome early for yummy meals from 5.30pm\nPosters on local noticeboards have the film details\nOr follow us on FB: gbiislandscreens
URL:https://www.greatbarrier.co.nz/event/island-screens-movie-night-two-tickets-to-greece/
LOCATION:Barrier Social Club
CATEGORIES:Entertainment,Evening activity,Island Screens - Movie Club
END:VEVENT
BEGIN:VEVENT
DTSTART;TZID=Pacific/Auckland:20250407T191500
DTEND;TZID=Pacific/Auckland:20250407T210000
DTSTAMP:20260421T182905
CREATED:20250319T200104Z
LAST-MODIFIED:20250319T200421Z
UID:18691-1744053300-1744059600@www.greatbarrier.co.nz
SUMMARY:Island Screens Movie Night - EO
DESCRIPTION:Come & enjoy a night out at Barrier Social Club\nMonday is movie night\nEntry is $10 / $15 cash on the door.\nALL WELCOME – SUPPORT LOCAL\nCome early for yummy meals from 5.30pm\nPosters on local noticeboards have the film details\nOr follow us on FB: gbiislandscreens
URL:https://www.greatbarrier.co.nz/event/island-screens-movie-night-eo/
LOCATION:Barrier Social Club
CATEGORIES:Entertainment,Evening activity,Island Screens - Movie Club
END:VEVENT
BEGIN:VEVENT
DTSTART;TZID=Pacific/Auckland:20250414T191500
DTEND;TZID=Pacific/Auckland:20250414T210000
DTSTAMP:20260421T182905
CREATED:20250320T014202Z
LAST-MODIFIED:20250320T014602Z
UID:18709-1744658100-1744664400@www.greatbarrier.co.nz
SUMMARY:Island Screens: Evil does not exist
DESCRIPTION:Come & enjoy a night out at Barrier Social Club\nMonday is movie night\nEntry is $10 / $15 cash on the door.\nALL WELCOME – SUPPORT LOCAL\nCome early for yummy meals from 5.30pm\nPosters on local noticeboards have the film details\nOr follow us on FB: gbiislandscreens
URL:https://www.greatbarrier.co.nz/event/island-screens-evil-does-not-exist/
LOCATION:Barrier Social Club
CATEGORIES:Island Screens - Movie Club
ATTACH;FMTTYPE=image/jpeg:https://www.greatbarrier.co.nz/wp-content/uploads/2025/03/images-5.jpeg
END:VEVENT
BEGIN:VEVENT
DTSTART;TZID=Pacific/Auckland:20250421T191500
DTEND;TZID=Pacific/Auckland:20250421T210000
DTSTAMP:20260421T182905
CREATED:20250415T200919Z
LAST-MODIFIED:20250415T201127Z
UID:19127-1745262900-1745269200@www.greatbarrier.co.nz
SUMMARY:Island Screens Movie NIght - 'The Mountain'
DESCRIPTION:Come & enjoy a night out at Barrier Social Club\nMonday is movie night\nEntry is $10 / $15 cash on the door.\nALL WELCOME – SUPPORT LOCAL\nCome early for yummy meals from 5.30pm\nPosters on local noticeboards have the film details\nOr follow us on FB: gbiislandscreens
URL:https://www.greatbarrier.co.nz/event/island-screens-movie-night-the-mountain/
LOCATION:Barrier Social Club
CATEGORIES:Entertainment,Evening activity,Island Screens - Movie Club
ATTACH;FMTTYPE=image/jpeg:https://www.greatbarrier.co.nz/wp-content/uploads/2025/04/NZ_TM_Web_Version_Clean-LOW-RES_0.jpg
END:VEVENT
BEGIN:VEVENT
DTSTART;TZID=Pacific/Auckland:20250428T191500
DTEND;TZID=Pacific/Auckland:20250428T210000
DTSTAMP:20260421T182905
CREATED:20250415T231030Z
LAST-MODIFIED:20250415T231030Z
UID:19152-1745867700-1745874000@www.greatbarrier.co.nz
SUMMARY:Island Screens Movie Night - "The Critic"
DESCRIPTION:Come & enjoy a night out at Barrier Social Club\nMonday is movie night\nEntry is $10 / $15 cash on the door.\nALL WELCOME – SUPPORT LOCAL\nCome early for yummy meals from 5.30pm\nPosters on local noticeboards have the film details\nOr follow us on FB: gbiislandscreens
URL:https://www.greatbarrier.co.nz/event/island-screens-movie-night-the-critic/
LOCATION:Barrier Social Club
CATEGORIES:Island Screens - Movie Club
ATTACH;FMTTYPE=image/jpeg:https://www.greatbarrier.co.nz/wp-content/uploads/2025/04/MV5BODc5MjRmMTQtNmU1Zi00ZDAwLWFkZGItMGFlZDI1OGY1ZmI4XkEyXkFqcGc@._V1_FMjpg_UX1000_.jpg
END:VEVENT
BEGIN:VEVENT
DTSTART;TZID=Pacific/Auckland:20250505T191500
DTEND;TZID=Pacific/Auckland:20250505T210000
DTSTAMP:20260421T182905
CREATED:20250415T232654Z
LAST-MODIFIED:20250415T232654Z
UID:19157-1746472500-1746478800@www.greatbarrier.co.nz
SUMMARY:Island Screens Movie Night - "Eric Ravilious" Documentary
DESCRIPTION:Come & enjoy a night out at Barrier Social Club\nMonday is movie night\nEntry is $10 / $15 cash on the door.\nALL WELCOME – SUPPORT LOCAL\nCome early for yummy meals from 5.30pm\nPosters on local noticeboards have the film details\nOr follow us on FB: gbiislandscreens
URL:https://www.greatbarrier.co.nz/event/island-screens-movie-night-eric-ravilious-documentary/
LOCATION:Barrier Social Club
CATEGORIES:Island Screens - Movie Club
ATTACH;FMTTYPE=image/jpeg:https://www.greatbarrier.co.nz/wp-content/uploads/2025/04/MV5BMmU3MWRiYjUtMjliYy00Y2ViLTg1OTYtZWE5ZDcyNmQ4OWViXkEyXkFqcGc@._V1_FMjpg_UX1000_.jpg
END:VEVENT
END:VCALENDAR