BEGIN:VCALENDAR
VERSION:2.0
PRODID:-//Aotea Great Barrier Island - ECPv6.15.4//NONSGML v1.0//EN
CALSCALE:GREGORIAN
METHOD:PUBLISH
X-WR-CALNAME:Aotea Great Barrier Island
X-ORIGINAL-URL:https://www.greatbarrier.co.nz
X-WR-CALDESC:Events for Aotea Great Barrier Island
REFRESH-INTERVAL;VALUE=DURATION:PT1H
X-Robots-Tag:noindex
X-PUBLISHED-TTL:PT1H
BEGIN:VTIMEZONE
TZID:Pacific/Auckland
BEGIN:STANDARD
TZOFFSETFROM:+1300
TZOFFSETTO:+1200
TZNAME:NZST
DTSTART:20240406T140000
END:STANDARD
BEGIN:DAYLIGHT
TZOFFSETFROM:+1200
TZOFFSETTO:+1300
TZNAME:NZDT
DTSTART:20240928T140000
END:DAYLIGHT
END:VTIMEZONE
BEGIN:VEVENT
DTSTART;TZID=Pacific/Auckland:20240916T191500
DTEND;TZID=Pacific/Auckland:20240916T220000
DTSTAMP:20260421T114706
CREATED:20240902T030627Z
LAST-MODIFIED:20240902T030655Z
UID:14789-1726514100-1726524000@www.greatbarrier.co.nz
SUMMARY:Movie Nights - Fallen Leaves
DESCRIPTION:FALLEN LEAVES – MONDAY 16 SEPTEMBER \nIn modern-day Helsinki\, two lonely souls in search of love meet by chance in a karaoke bar. However\, their path to happiness is beset by obstacles ………. \n“The best film of the year !” Time Magazine. \nWinner Jury Prize Festival de Cannes. \n****with subtitles in English*** \nFallen Leaves is a life-affirming gem. 97% Rotten Tomatoes.  \nGenre: Romantic comedy  Rating: M (violence) \nMonday nights at Barrier Social Club\, Tryphena. \nMovie starts 7.15pm \nEntry on the door is $10 for members and $15 for non-members.The kitchen is open 6-7pm for yummy meals. \nAll welcome \nWe aim to show a wide variety of new films made in NZ and from around the world. \nDetails of what the Monday night movie is can be found on our Facebook page: Island Screens
URL:https://www.greatbarrier.co.nz/event/movie-nights-fallen-leaves/
LOCATION:Barrier Social Club
CATEGORIES:Entertainment,Island Screens - Movie Club
END:VEVENT
END:VCALENDAR