BEGIN:VCALENDAR
VERSION:2.0
PRODID:-//Aotea Great Barrier Island - ECPv6.15.4//NONSGML v1.0//EN
CALSCALE:GREGORIAN
METHOD:PUBLISH
X-ORIGINAL-URL:https://www.greatbarrier.co.nz
X-WR-CALDESC:Events for Aotea Great Barrier Island
REFRESH-INTERVAL;VALUE=DURATION:PT1H
X-Robots-Tag:noindex
X-PUBLISHED-TTL:PT1H
BEGIN:VTIMEZONE
TZID:Pacific/Auckland
BEGIN:STANDARD
TZOFFSETFROM:+1300
TZOFFSETTO:+1200
TZNAME:NZST
DTSTART:20240406T140000
END:STANDARD
BEGIN:DAYLIGHT
TZOFFSETFROM:+1200
TZOFFSETTO:+1300
TZNAME:NZDT
DTSTART:20240928T140000
END:DAYLIGHT
END:VTIMEZONE
BEGIN:VEVENT
DTSTART;TZID=Pacific/Auckland:20240624T190000
DTEND;TZID=Pacific/Auckland:20240624T210000
DTSTAMP:20260421T145917
CREATED:20240618T025203Z
LAST-MODIFIED:20240618T025203Z
UID:12838-1719255600-1719262800@www.greatbarrier.co.nz
SUMMARY:Island Screens Movie Club
DESCRIPTION:‘Ferrari’ \nSet in the summer of 1957\, with Enzo Ferraris auto empire in crisis\, the ex-racer turned entrepreneur\npushes himself and his drivers to the edge. Starring Adam Driver & Penelope Cruz. Rating: R16\n(Graphic injury detail\, offensive language &amp; sex scenes) Genre: Biography\, Drama \nMovies start 7.15pm at Barrier Social Club\nEntry on the door is cash $10 / $15\nALL WELCOME\nYummy food from 5.30pm
URL:https://www.greatbarrier.co.nz/event/island-screens-movie-club-7/
LOCATION:Barrier Social Club
CATEGORIES:Evening activity,Food,Island Screens - Movie Club
ATTACH;FMTTYPE=image/jpeg:https://www.greatbarrier.co.nz/wp-content/uploads/2024/06/onesheet.jpg
END:VEVENT
END:VCALENDAR