BEGIN:VCALENDAR
VERSION:2.0
PRODID:-//Aotea Great Barrier Island - ECPv6.15.4//NONSGML v1.0//EN
CALSCALE:GREGORIAN
METHOD:PUBLISH
X-ORIGINAL-URL:https://www.greatbarrier.co.nz
X-WR-CALDESC:Events for Aotea Great Barrier Island
REFRESH-INTERVAL;VALUE=DURATION:PT1H
X-Robots-Tag:noindex
X-PUBLISHED-TTL:PT1H
BEGIN:VTIMEZONE
TZID:Pacific/Auckland
BEGIN:STANDARD
TZOFFSETFROM:+1300
TZOFFSETTO:+1200
TZNAME:NZST
DTSTART:20240406T140000
END:STANDARD
BEGIN:DAYLIGHT
TZOFFSETFROM:+1200
TZOFFSETTO:+1300
TZNAME:NZDT
DTSTART:20240928T140000
END:DAYLIGHT
END:VTIMEZONE
BEGIN:VEVENT
DTSTART;TZID=Pacific/Auckland:20241104T180000
DTEND;TZID=Pacific/Auckland:20241104T210000
DTSTAMP:20260420T174532
CREATED:20241030T043625Z
LAST-MODIFIED:20241030T043625Z
UID:16162-1730743200-1730754000@www.greatbarrier.co.nz
SUMMARY:Movie night - Six inches of Soil - with Island Screens
DESCRIPTION:Join us to see this newly released UK doco called Six inches of Soil.\nIt follows 3 young farmers on their pathway to put the ideas of regenerative farming into practice.\nWe will be joined in the room by local Aotea gardeners and part of the Aotea food resilience project:\nCaity Endt & Jo O’Reilly \nThere will be 2 screenings\n4 November at Barrier Social Club\n26 November at the Okiwi Community room \nEntry is $10 cash on the door – all welcome.\nMovie starts 7.15pm\nFabulous food available from 5.30pm\nFB: gbiislandscreens
URL:https://www.greatbarrier.co.nz/event/movie-night-six-inches-of-soil-with-island-screens/
LOCATION:Barrier Social Club
CATEGORIES:Community,Cultural,Entertainment,Evening activity,Food,Guest Speakers,Island Screens - Movie Club,Nature
ATTACH;FMTTYPE=image/jpeg:https://www.greatbarrier.co.nz/wp-content/uploads/2024/10/Six-inches-of-Soil-flyer-rotated.jpg
END:VEVENT
BEGIN:VEVENT
DTSTART;TZID=Pacific/Auckland:20241118T170000
DTEND;TZID=Pacific/Auckland:20241118T210000
DTSTAMP:20260420T174532
CREATED:20241114T234031Z
LAST-MODIFIED:20241114T234031Z
UID:16421-1731949200-1731963600@www.greatbarrier.co.nz
SUMMARY:Island Screens GBI Movie Club 18/11/24
DESCRIPTION:SPECIAL EVENT ***ISLAND SCREENS** Maurice & I\nMonday 18 November 7.15pm @ Barrier Social Club\nWe will be joined in person by Jane Mahoney the co-producer & co-director of this unique kiwi doco.\nEntry is $10 on the door. Fab food from 5.30pm. All welcome ! \nHaving lost almost their entire life’s work in the 2011 Christchurch earthquakes\, there iconic NZ architects fight to save their finest building from demolition. The film includes rare archival footage & exclusive interviews. ….and reflects on the enduring importance of architecture in shaping and enriching communal life.
URL:https://www.greatbarrier.co.nz/event/island-screens-gbi-movie-club-18-11-24/
LOCATION:Barrier Social Club
CATEGORIES:Arts,Community,Entertainment,Evening activity,Guest Speakers,Island Screens - Movie Club
END:VEVENT
BEGIN:VEVENT
DTSTART;TZID=Pacific/Auckland:20241125T190000
DTEND;TZID=Pacific/Auckland:20241125T213000
DTSTAMP:20260420T174532
CREATED:20241115T002810Z
LAST-MODIFIED:20241115T002810Z
UID:16570-1732561200-1732570200@www.greatbarrier.co.nz
SUMMARY:Island Screens - The Convert
DESCRIPTION:
URL:https://www.greatbarrier.co.nz/event/island-screens-the-convert/
LOCATION:Barrier Social Club
CATEGORIES:Entertainment,Evening activity,Island Screens - Movie Club
END:VEVENT
BEGIN:VEVENT
DTSTART;TZID=Pacific/Auckland:20241126T191500
DTEND;TZID=Pacific/Auckland:20241126T213000
DTSTAMP:20260420T174532
CREATED:20241115T003318Z
LAST-MODIFIED:20241115T003318Z
UID:16574-1732648500-1732656600@www.greatbarrier.co.nz
SUMMARY:Six Inches of Soil - Film Screening  - Ōkiwi kura
DESCRIPTION:
URL:https://www.greatbarrier.co.nz/event/six-inches-of-soil-film-screening-okiwi-kura/
LOCATION:Okiwi School
CATEGORIES:Entertainment,Evening activity,Island Screens - Movie Club
END:VEVENT
END:VCALENDAR