BEGIN:VCALENDAR
VERSION:2.0
PRODID:-//Aotea Great Barrier Island - ECPv6.15.4//NONSGML v1.0//EN
CALSCALE:GREGORIAN
METHOD:PUBLISH
X-ORIGINAL-URL:https://www.greatbarrier.co.nz
X-WR-CALDESC:Events for Aotea Great Barrier Island
REFRESH-INTERVAL;VALUE=DURATION:PT1H
X-Robots-Tag:noindex
X-PUBLISHED-TTL:PT1H
BEGIN:VTIMEZONE
TZID:Pacific/Auckland
BEGIN:STANDARD
TZOFFSETFROM:+1300
TZOFFSETTO:+1200
TZNAME:NZST
DTSTART:20240406T140000
END:STANDARD
BEGIN:DAYLIGHT
TZOFFSETFROM:+1200
TZOFFSETTO:+1300
TZNAME:NZDT
DTSTART:20240928T140000
END:DAYLIGHT
END:VTIMEZONE
BEGIN:VEVENT
DTSTART;VALUE=DATE:20241005
DTEND;VALUE=DATE:20241006
DTSTAMP:20260420T210124
CREATED:20240902T032942Z
LAST-MODIFIED:20240902T032942Z
UID:14803-1728086400-1728172799@www.greatbarrier.co.nz
SUMMARY:Kids Movie Club - Details TBC
DESCRIPTION:Kids movie club will be 21st September & 5 October. More details will follow soon. These will be our last kids sessions for the year.
URL:https://www.greatbarrier.co.nz/event/kids-movie-club-details-tbc-2/
LOCATION:Barrier Social Club
CATEGORIES:Children's Activities,Island Screens - Movie Club
END:VEVENT
BEGIN:VEVENT
DTSTART;TZID=Pacific/Auckland:20241005T150000
DTEND;TZID=Pacific/Auckland:20241005T170000
DTSTAMP:20260420T210124
CREATED:20240911T034005Z
LAST-MODIFIED:20240929T231613Z
UID:15013-1728140400-1728147600@www.greatbarrier.co.nz
SUMMARY:Kids Movie Club - Scary Girl
DESCRIPTION:Island Screens brings you:  kids movie club ! Showing: Scarygirl \nSaturday 5 October 3pm at Barrier Social Club. \nFree entry – all welcome \nPlease note that children must be accompanied by a parent or guardian. \nAs her world is shrouded in darkness\, a young girl must overcome her fears and travel to a mysterious city of light\, save her father from a dangerous scientist and prevent the destruction of her planet.             With the voice of Sam Neill. **Official Selection Sydney film festival********* \nRating: PG    Genre: Australian Animation\, Adventure  Run time 90 mins. \n“Imaginatively directed and visually stunning”\, AU review.            86% Rotten Tomatoes review.
URL:https://www.greatbarrier.co.nz/event/kids-movie-club-scary-girl/
LOCATION:Barrier Social Club
CATEGORIES:Children's Activities,Island Screens - Movie Club
ATTACH;FMTTYPE=image/jpeg:https://www.greatbarrier.co.nz/wp-content/uploads/2024/09/MV5BYTA2NTlkNDUtYjRmYS00ZjQ0LWIzMjctNDQxOTYzZDAzOGVlXkEyXkFqcGdeQXVyMTUzMzU4Nw@@._V1_FMjpg_UX1000_.jpg
END:VEVENT
BEGIN:VEVENT
DTSTART;TZID=Pacific/Auckland:20241014T191500
DTEND;TZID=Pacific/Auckland:20241014T213000
DTSTAMP:20260420T210124
CREATED:20240929T232453Z
LAST-MODIFIED:20240930T015449Z
UID:15486-1728933300-1728941400@www.greatbarrier.co.nz
SUMMARY:Short Film Festival - "The Sampler"
DESCRIPTION:Island Screens is delighted to be a part of the nationwide SHORT FILM FESTIVAL – Monday 14 October 7.15pm at Barrier Social Club. \nWe will screen “The Sampler” showing the highlights of the festival with short films from around the globe! All welcome to this very entertaining\, unique night out. No need to book – entry is $10 cash on the door. \nRating: M Genre: a variety! \nFollow us on FB: gbiislandscreens
URL:https://www.greatbarrier.co.nz/event/short-film-festival-the-sampler/
LOCATION:Barrier Social Club
CATEGORIES:Arts,Evening activity,Island Screens - Movie Club
END:VEVENT
END:VCALENDAR