BEGIN:VCALENDAR
VERSION:2.0
PRODID:-//Aotea Great Barrier Island - ECPv6.15.4//NONSGML v1.0//EN
CALSCALE:GREGORIAN
METHOD:PUBLISH
X-WR-CALNAME:Aotea Great Barrier Island
X-ORIGINAL-URL:https://www.greatbarrier.co.nz
X-WR-CALDESC:Events for Aotea Great Barrier Island
REFRESH-INTERVAL;VALUE=DURATION:PT1H
X-Robots-Tag:noindex
X-PUBLISHED-TTL:PT1H
BEGIN:VTIMEZONE
TZID:Pacific/Auckland
BEGIN:STANDARD
TZOFFSETFROM:+1300
TZOFFSETTO:+1200
TZNAME:NZST
DTSTART:20230401T140000
END:STANDARD
BEGIN:DAYLIGHT
TZOFFSETFROM:+1200
TZOFFSETTO:+1300
TZNAME:NZDT
DTSTART:20230923T140000
END:DAYLIGHT
END:VTIMEZONE
BEGIN:VEVENT
DTSTART;TZID=Pacific/Auckland:20230401T100000
DTEND;TZID=Pacific/Auckland:20230401T140000
DTSTAMP:20260422T154505
CREATED:20230329T083502Z
LAST-MODIFIED:20230330T033348Z
UID:4906-1680343200-1680357600@www.greatbarrier.co.nz
SUMMARY:Growers and Makers Market
DESCRIPTION:
URL:https://www.greatbarrier.co.nz/event/growers-and-makers-market/
LOCATION:Claris Conference Centre
CATEGORIES:Community,Food,Market
ATTACH;FMTTYPE=image/jpeg:https://www.greatbarrier.co.nz/wp-content/uploads/2023/03/338198780_527365216001192_3298872583772427973_n.jpg
END:VEVENT
BEGIN:VEVENT
DTSTART;TZID=Pacific/Auckland:20230408T100000
DTEND;TZID=Pacific/Auckland:20230408T140000
DTSTAMP:20260422T154505
CREATED:20230404T073233Z
LAST-MODIFIED:20230404T073315Z
UID:4950-1680948000-1680962400@www.greatbarrier.co.nz
SUMMARY:Easter Market
DESCRIPTION:
URL:https://www.greatbarrier.co.nz/event/easter-market/
LOCATION:Claris Sports Club\, 19 Whangaparapara Road\, Claris\, Great Barrier Island\, New Zealand
CATEGORIES:Annual,Community,Food,Market
ORGANIZER;CN="Claris Sports Club":MAILTO:clarisclub@xtra.co.nz
END:VEVENT
END:VCALENDAR