BEGIN:VCALENDAR
VERSION:2.0
PRODID:-//Aotea Great Barrier Island - ECPv6.15.4//NONSGML v1.0//EN
CALSCALE:GREGORIAN
METHOD:PUBLISH
X-ORIGINAL-URL:https://www.greatbarrier.co.nz
X-WR-CALDESC:Events for Aotea Great Barrier Island
REFRESH-INTERVAL;VALUE=DURATION:PT1H
X-Robots-Tag:noindex
X-PUBLISHED-TTL:PT1H
BEGIN:VTIMEZONE
TZID:Pacific/Auckland
BEGIN:STANDARD
TZOFFSETFROM:+1300
TZOFFSETTO:+1200
TZNAME:NZST
DTSTART:20240406T140000
END:STANDARD
BEGIN:DAYLIGHT
TZOFFSETFROM:+1200
TZOFFSETTO:+1300
TZNAME:NZDT
DTSTART:20240928T140000
END:DAYLIGHT
END:VTIMEZONE
BEGIN:VEVENT
DTSTART;TZID=Pacific/Auckland:20240708T190000
DTEND;TZID=Pacific/Auckland:20240708T203000
DTSTAMP:20260422T075855
CREATED:20240618T024724Z
LAST-MODIFIED:20240618T024814Z
UID:12836-1720465200-1720470600@www.greatbarrier.co.nz
SUMMARY:Wellness Aotea - Winter Presentations\, TRAUMA - Releasing the Victimhood
DESCRIPTION:Discover how feeling in control\, rather than a victim of circumstances\, is vital for healing\n(N.B. No personal input required – can just attend and listen OR alternatively it can be delivered in a 1:1 session) \n\n\n\n\n\n\n\n\n\n\n\n\nPresented by Greg Liggins\nVenue: Aotea Learning Hub\, next to Kaitoke School \nBookings essential. \nEmail: greg.liggins@emotionalmedicine.co.nz \nOr call 027 6047155 \nIf you can’t afford the fee\, please contact Greg – koha accepted
URL:https://www.greatbarrier.co.nz/event/wellness-aotea-winter-presentations-trauma-releasing-the-victimhood/
LOCATION:Learning Hub
CATEGORIES:Evening activity,Expert Speakers,Workshops
ATTACH;FMTTYPE=image/png:https://www.greatbarrier.co.nz/wp-content/uploads/2024/06/Winter-Presentations-by-Wellness-Aotea.png
END:VEVENT
BEGIN:VEVENT
DTSTART;TZID=Pacific/Auckland:20240708T190000
DTEND;TZID=Pacific/Auckland:20240708T210000
DTSTAMP:20260422T075855
CREATED:20240618T025614Z
LAST-MODIFIED:20240618T025614Z
UID:12844-1720465200-1720472400@www.greatbarrier.co.nz
SUMMARY:Island Screens Movie Club
DESCRIPTION:‘The Last Rider’ \nThe incredible true story of the greatest cycling race and how American Greg LeMond completed one\nof the most inspiring comebacks in history. “Very recommended” Stuff co nz review\nRating: M (offensive language) Genre: Doco \nMovies start 7.15pm at Barrier Social Club\nEntry on the door is cash $10 / $15\nALL WELCOME\nYummy food from 5.30pm.
URL:https://www.greatbarrier.co.nz/event/island-screens-movie-club-9/
LOCATION:Barrier Social Club
CATEGORIES:Evening activity,Food,Island Screens - Movie Club
ATTACH;FMTTYPE=image/jpeg:https://www.greatbarrier.co.nz/wp-content/uploads/2024/06/MV5BYTkyNmUxNjQtOThlMS00ZTg3LTkzODItN2I1OTI1ZWM2NDg1XkEyXkFqcGdeQXVyMTMzOTQyOTk1._V1_FMjpg_UX1000_.jpg
END:VEVENT
END:VCALENDAR