BEGIN:VCALENDAR
VERSION:2.0
PRODID:-//Aotea Great Barrier Island - ECPv6.15.4//NONSGML v1.0//EN
CALSCALE:GREGORIAN
METHOD:PUBLISH
X-WR-CALNAME:Aotea Great Barrier Island
X-ORIGINAL-URL:https://www.greatbarrier.co.nz
X-WR-CALDESC:Events for Aotea Great Barrier Island
REFRESH-INTERVAL;VALUE=DURATION:PT1H
X-Robots-Tag:noindex
X-PUBLISHED-TTL:PT1H
BEGIN:VTIMEZONE
TZID:Pacific/Auckland
BEGIN:STANDARD
TZOFFSETFROM:+1300
TZOFFSETTO:+1200
TZNAME:NZST
DTSTART:20240406T140000
END:STANDARD
BEGIN:DAYLIGHT
TZOFFSETFROM:+1200
TZOFFSETTO:+1300
TZNAME:NZDT
DTSTART:20240928T140000
END:DAYLIGHT
END:VTIMEZONE
BEGIN:VEVENT
DTSTART;TZID=Pacific/Auckland:20240512T123000
DTEND;TZID=Pacific/Auckland:20240512T190000
DTSTAMP:20260422T091959
CREATED:20240507T234122Z
LAST-MODIFIED:20240507T234122Z
UID:11734-1715517000-1715540400@www.greatbarrier.co.nz
SUMMARY:Mother's Day at Golf Club
DESCRIPTION:Lunch 12:30 – 4:30pm Dinner 5:30 – 7pm \nBookings essential | Contact 09 4290 800
URL:https://www.greatbarrier.co.nz/event/mothers-day-at-golf-club/
LOCATION:GBI Golf Club\, 59 Whangaparapara Road\, 0991\, New Zealand
CATEGORIES:Community,Evening activity,Food
ATTACH;FMTTYPE=image/jpeg:https://www.greatbarrier.co.nz/wp-content/uploads/2024/05/istockphoto-1367384461-612x612-1.jpg
END:VEVENT
BEGIN:VEVENT
DTSTART;TZID=Pacific/Auckland:20240520T173000
DTEND;TZID=Pacific/Auckland:20240520T213000
DTSTAMP:20260422T091959
CREATED:20240508T001433Z
LAST-MODIFIED:20240508T001433Z
UID:11755-1716226200-1716240600@www.greatbarrier.co.nz
SUMMARY:Island Screens - November
DESCRIPTION:5 days into the heart of the French anti-terrorism services during the hunt for suspects after the 13/11/2015 attacks in Paris. \nRating : M (violence & offensive language) \nKitchen from 5:30pm | Movie at 7:15pm \nEntry $10 | $15 for non members
URL:https://www.greatbarrier.co.nz/event/island-screens-november/
LOCATION:Barrier Social Club
CATEGORIES:Community,Evening activity,Island Screens - Movie Club
ATTACH;FMTTYPE=image/jpeg:https://www.greatbarrier.co.nz/wp-content/uploads/2024/05/MV5BNjY0N2Y3NmUtMjFkOS00YWIwLThlNzAtMTc4MmQ5MjgyMTk3XkEyXkFqcGdeQXVyODY0MDQ3NTI@._V1_.jpg
END:VEVENT
BEGIN:VEVENT
DTSTART;TZID=Pacific/Auckland:20240530T170000
DTEND;TZID=Pacific/Auckland:20240530T220000
DTSTAMP:20260422T091959
CREATED:20240508T000342Z
LAST-MODIFIED:20240521T024556Z
UID:11748-1717088400-1717106400@www.greatbarrier.co.nz
SUMMARY:Time Out Tour with Matt Chisholm
DESCRIPTION:The Rural Support Trust\, in proud partnership with ANZ\, Bayleys\, BDO\, Datamars Livestock\, Fonterra\, and Ministry for Primary Industries (MPI)\, are excited to bring the Time Out Tour to Aotea / Great Barrier Island\nThis event is fully booked as of Tuesday\, May 21 – Sorry folks!  \nDoors open from 5:00 pm \nBuffet Dinner will be served from 6:00 pm – 7:00 pm \nProgramme begins at 7:00 pm \n$10 per person. Tickets are very limited and essential. This event is strictly R15. \nhttps://events.humanitix.com/rural-support-trust-s-time-out-tour-great-barrier-island \nFor any enquiries\, please ring Anna Davis on 027 279 4428 anna.davis@aucklandcouncil.govt.nz \n  \nhttps://www.rural-support.org.nz/Time-Out-Tour
URL:https://www.greatbarrier.co.nz/event/time-out-tour-with-matt-chisholm/
LOCATION:Claris Sports Club\, 19 Whangaparapara Road\, Claris\, Great Barrier Island\, New Zealand
CATEGORIES:Community,Evening activity,Expert Speakers,Food
ATTACH;FMTTYPE=image/png:https://www.greatbarrier.co.nz/wp-content/uploads/2024/05/Untitled-design-9.png
END:VEVENT
END:VCALENDAR