BEGIN:VCALENDAR
VERSION:2.0
PRODID:-//Aotea Great Barrier Island - ECPv6.15.4//NONSGML v1.0//EN
CALSCALE:GREGORIAN
METHOD:PUBLISH
X-WR-CALNAME:Aotea Great Barrier Island
X-ORIGINAL-URL:https://www.greatbarrier.co.nz
X-WR-CALDESC:Events for Aotea Great Barrier Island
REFRESH-INTERVAL;VALUE=DURATION:PT1H
X-Robots-Tag:noindex
X-PUBLISHED-TTL:PT1H
BEGIN:VTIMEZONE
TZID:Pacific/Auckland
BEGIN:STANDARD
TZOFFSETFROM:+1300
TZOFFSETTO:+1200
TZNAME:NZST
DTSTART:20250405T140000
END:STANDARD
BEGIN:DAYLIGHT
TZOFFSETFROM:+1200
TZOFFSETTO:+1300
TZNAME:NZDT
DTSTART:20250927T140000
END:DAYLIGHT
END:VTIMEZONE
BEGIN:VEVENT
DTSTART;TZID=Pacific/Auckland:20250110T130000
DTEND;TZID=Pacific/Auckland:20250110T160000
DTSTAMP:20260423T122956
CREATED:20241218T034149Z
LAST-MODIFIED:20241218T034149Z
UID:17134-1736514000-1736524800@www.greatbarrier.co.nz
SUMMARY:Oruawharo Medlands Ecovisoin Family Fun Event
DESCRIPTION:Bring the whole family for a fun and interactive afternoon with an outdoor flavour. There will be information booths\, games\, a quiz\, giveaways + merch and home baked goods for sale. Swing by and check it out\, we look forward to seeing you there. \n  \nThe OME Hub is next to the Community Garden in Medlands.
URL:https://www.greatbarrier.co.nz/event/oruawharo-medlands-ecovisoin-family-fun-event/
LOCATION:OME Eco-hub
CATEGORIES:Children's Activities,Conservation,Entertainment,Food
END:VEVENT
END:VCALENDAR