BEGIN:VCALENDAR
VERSION:2.0
PRODID:-//Aotea Great Barrier Island - ECPv6.15.4//NONSGML v1.0//EN
CALSCALE:GREGORIAN
METHOD:PUBLISH
X-ORIGINAL-URL:https://www.greatbarrier.co.nz
X-WR-CALDESC:Events for Aotea Great Barrier Island
REFRESH-INTERVAL;VALUE=DURATION:PT1H
X-Robots-Tag:noindex
X-PUBLISHED-TTL:PT1H
BEGIN:VTIMEZONE
TZID:Pacific/Auckland
BEGIN:STANDARD
TZOFFSETFROM:+1300
TZOFFSETTO:+1200
TZNAME:NZST
DTSTART:20240406T140000
END:STANDARD
BEGIN:DAYLIGHT
TZOFFSETFROM:+1200
TZOFFSETTO:+1300
TZNAME:NZDT
DTSTART:20240928T140000
END:DAYLIGHT
END:VTIMEZONE
BEGIN:VEVENT
DTSTART;TZID=Pacific/Auckland:20241218T080000
DTEND;TZID=Pacific/Auckland:20241218T170000
DTSTAMP:20260424T150408
CREATED:20241217T191232Z
LAST-MODIFIED:20241217T191252Z
UID:17119-1734508800-1734541200@www.greatbarrier.co.nz
SUMMARY:FREE Bird Aversion Dog Training
DESCRIPTION:
URL:https://www.greatbarrier.co.nz/event/free-bird-aversion-dog-training/
LOCATION:Various
CATEGORIES:Community,Conservation,Workshops
ATTACH;FMTTYPE=image/png:https://www.greatbarrier.co.nz/wp-content/uploads/2024/12/Bird-Aversion-Jan-2025-copy.png
END:VEVENT
END:VCALENDAR