BEGIN:VCALENDAR
VERSION:2.0
PRODID:-//Aotea Great Barrier Island - ECPv6.15.4//NONSGML v1.0//EN
CALSCALE:GREGORIAN
METHOD:PUBLISH
X-WR-CALNAME:Aotea Great Barrier Island
X-ORIGINAL-URL:https://www.greatbarrier.co.nz
X-WR-CALDESC:Events for Aotea Great Barrier Island
REFRESH-INTERVAL;VALUE=DURATION:PT1H
X-Robots-Tag:noindex
X-PUBLISHED-TTL:PT1H
BEGIN:VTIMEZONE
TZID:Pacific/Auckland
BEGIN:STANDARD
TZOFFSETFROM:+1300
TZOFFSETTO:+1200
TZNAME:NZST
DTSTART:20240406T140000
END:STANDARD
BEGIN:DAYLIGHT
TZOFFSETFROM:+1200
TZOFFSETTO:+1300
TZNAME:NZDT
DTSTART:20240928T140000
END:DAYLIGHT
END:VTIMEZONE
BEGIN:VEVENT
DTSTART;TZID=Pacific/Auckland:20241222T090000
DTEND;TZID=Pacific/Auckland:20241222T170000
DTSTAMP:20260426T141016
CREATED:20241216T225805Z
LAST-MODIFIED:20241216T225856Z
UID:17080-1734858000-1734886800@www.greatbarrier.co.nz
SUMMARY:Aotea Army Working Bee
DESCRIPTION:Meet at the Claris Crossroads at 9am – Contact Leon Foster or just show up.
URL:https://www.greatbarrier.co.nz/event/aotea-army-working-bee/
CATEGORIES:Community
END:VEVENT
END:VCALENDAR