BEGIN:VCALENDAR
VERSION:2.0
PRODID:-//Aotea Great Barrier Island - ECPv6.15.4//NONSGML v1.0//EN
CALSCALE:GREGORIAN
METHOD:PUBLISH
X-WR-CALNAME:Aotea Great Barrier Island
X-ORIGINAL-URL:https://www.greatbarrier.co.nz
X-WR-CALDESC:Events for Aotea Great Barrier Island
REFRESH-INTERVAL;VALUE=DURATION:PT1H
X-Robots-Tag:noindex
X-PUBLISHED-TTL:PT1H
BEGIN:VTIMEZONE
TZID:Pacific/Auckland
BEGIN:STANDARD
TZOFFSETFROM:+1300
TZOFFSETTO:+1200
TZNAME:NZST
DTSTART:20240406T140000
END:STANDARD
BEGIN:DAYLIGHT
TZOFFSETFROM:+1200
TZOFFSETTO:+1300
TZNAME:NZDT
DTSTART:20240928T140000
END:DAYLIGHT
END:VTIMEZONE
BEGIN:VEVENT
DTSTART;TZID=Pacific/Auckland:20241102T100000
DTEND;TZID=Pacific/Auckland:20241102T140000
DTSTAMP:20260423T193945
CREATED:20241008T042725Z
LAST-MODIFIED:20241008T042750Z
UID:15624-1730541600-1730556000@www.greatbarrier.co.nz
SUMMARY:Growers & Makers Market
DESCRIPTION:
URL:https://www.greatbarrier.co.nz/event/growers-makers-market-6/
LOCATION:Claris Conference Centre
CATEGORIES:Community,Market
END:VEVENT
END:VCALENDAR