BEGIN:VCALENDAR
VERSION:2.0
PRODID:-//Aotea Great Barrier Island - ECPv6.15.4//NONSGML v1.0//EN
CALSCALE:GREGORIAN
METHOD:PUBLISH
X-ORIGINAL-URL:https://www.greatbarrier.co.nz
X-WR-CALDESC:Events for Aotea Great Barrier Island
REFRESH-INTERVAL;VALUE=DURATION:PT1H
X-Robots-Tag:noindex
X-PUBLISHED-TTL:PT1H
BEGIN:VTIMEZONE
TZID:Pacific/Auckland
BEGIN:STANDARD
TZOFFSETFROM:+1300
TZOFFSETTO:+1200
TZNAME:NZST
DTSTART:20240406T140000
END:STANDARD
BEGIN:DAYLIGHT
TZOFFSETFROM:+1200
TZOFFSETTO:+1300
TZNAME:NZDT
DTSTART:20240928T140000
END:DAYLIGHT
END:VTIMEZONE
BEGIN:VEVENT
DTSTART;TZID=Pacific/Auckland:20241013T093000
DTEND;TZID=Pacific/Auckland:20241013T123000
DTSTAMP:20260423T075534
CREATED:20240911T030919Z
LAST-MODIFIED:20240911T030919Z
UID:14971-1728811800-1728822600@www.greatbarrier.co.nz
SUMMARY:Keeping Laying Hens - Grow Food Aotea Workshop
DESCRIPTION:
URL:https://www.greatbarrier.co.nz/event/keeping-laying-hens-grow-food-aotea-workshop/
LOCATION:Okiwi Passion\, 10 Mabey Road\, Okiwi\, 0991\, New Zealand
CATEGORIES:Community,Workshops
ATTACH;FMTTYPE=image/png:https://www.greatbarrier.co.nz/wp-content/uploads/2024/09/13-October-Keeping-Laying-Hens.png
END:VEVENT
END:VCALENDAR