BEGIN:VCALENDAR
VERSION:2.0
PRODID:-//Aotea Great Barrier Island - ECPv6.15.4//NONSGML v1.0//EN
CALSCALE:GREGORIAN
METHOD:PUBLISH
X-ORIGINAL-URL:https://www.greatbarrier.co.nz
X-WR-CALDESC:Events for Aotea Great Barrier Island
REFRESH-INTERVAL;VALUE=DURATION:PT1H
X-Robots-Tag:noindex
X-PUBLISHED-TTL:PT1H
BEGIN:VTIMEZONE
TZID:Pacific/Auckland
BEGIN:STANDARD
TZOFFSETFROM:+1300
TZOFFSETTO:+1200
TZNAME:NZST
DTSTART:20240406T140000
END:STANDARD
BEGIN:DAYLIGHT
TZOFFSETFROM:+1200
TZOFFSETTO:+1300
TZNAME:NZDT
DTSTART:20240928T140000
END:DAYLIGHT
END:VTIMEZONE
BEGIN:VEVENT
DTSTART;TZID=Pacific/Auckland:20241012T100000
DTEND;TZID=Pacific/Auckland:20241012T120000
DTSTAMP:20260426T020520
CREATED:20241008T034842Z
LAST-MODIFIED:20241008T034959Z
UID:15599-1728727200-1728734400@www.greatbarrier.co.nz
SUMMARY:Growers & Makers Market
DESCRIPTION:
URL:https://www.greatbarrier.co.nz/event/growers-makers-market-5/
LOCATION:Claris Conference Centre
CATEGORIES:Community,Market
END:VEVENT
END:VCALENDAR