BEGIN:VCALENDAR
VERSION:2.0
PRODID:-//Aotea Great Barrier Island - ECPv6.15.4//NONSGML v1.0//EN
CALSCALE:GREGORIAN
METHOD:PUBLISH
X-WR-CALNAME:Aotea Great Barrier Island
X-ORIGINAL-URL:https://www.greatbarrier.co.nz
X-WR-CALDESC:Events for Aotea Great Barrier Island
REFRESH-INTERVAL;VALUE=DURATION:PT1H
X-Robots-Tag:noindex
X-PUBLISHED-TTL:PT1H
BEGIN:VTIMEZONE
TZID:Pacific/Auckland
BEGIN:STANDARD
TZOFFSETFROM:+1300
TZOFFSETTO:+1200
TZNAME:NZST
DTSTART:20240406T140000
END:STANDARD
BEGIN:DAYLIGHT
TZOFFSETFROM:+1200
TZOFFSETTO:+1300
TZNAME:NZDT
DTSTART:20240928T140000
END:DAYLIGHT
END:VTIMEZONE
BEGIN:VEVENT
DTSTART;TZID=Pacific/Auckland:20240827T130000
DTEND;TZID=Pacific/Auckland:20240827T160000
DTSTAMP:20260422T233739
CREATED:20240716T013821Z
LAST-MODIFIED:20240815T013229Z
UID:13516-1724763600-1724774400@www.greatbarrier.co.nz
SUMMARY:Local Board Ordinary Meeting
DESCRIPTION:Aotea Great Barrier Local Board Meetings
URL:https://www.greatbarrier.co.nz/event/local-board-ordinary-meeting/
LOCATION:Claris Conference Centre
CATEGORIES:Community
END:VEVENT
END:VCALENDAR