BEGIN:VCALENDAR
VERSION:2.0
PRODID:-//Aotea Great Barrier Island - ECPv6.15.4//NONSGML v1.0//EN
CALSCALE:GREGORIAN
METHOD:PUBLISH
X-ORIGINAL-URL:https://www.greatbarrier.co.nz
X-WR-CALDESC:Events for Aotea Great Barrier Island
REFRESH-INTERVAL;VALUE=DURATION:PT1H
X-Robots-Tag:noindex
X-PUBLISHED-TTL:PT1H
BEGIN:VTIMEZONE
TZID:Pacific/Auckland
BEGIN:STANDARD
TZOFFSETFROM:+1300
TZOFFSETTO:+1200
TZNAME:NZST
DTSTART:20240406T140000
END:STANDARD
BEGIN:DAYLIGHT
TZOFFSETFROM:+1200
TZOFFSETTO:+1300
TZNAME:NZDT
DTSTART:20240928T140000
END:DAYLIGHT
END:VTIMEZONE
BEGIN:VEVENT
DTSTART;TZID=Pacific/Auckland:20241102T100000
DTEND;TZID=Pacific/Auckland:20241102T140000
DTSTAMP:20260425T012326
CREATED:20241008T042725Z
LAST-MODIFIED:20241008T042750Z
UID:15624-1730541600-1730556000@www.greatbarrier.co.nz
SUMMARY:Growers & Makers Market
DESCRIPTION:
URL:https://www.greatbarrier.co.nz/event/growers-makers-market-6/
LOCATION:Claris Conference Centre
CATEGORIES:Community,Market
END:VEVENT
BEGIN:VEVENT
DTSTART;TZID=Pacific/Auckland:20241104T180000
DTEND;TZID=Pacific/Auckland:20241104T210000
DTSTAMP:20260425T012326
CREATED:20241030T043625Z
LAST-MODIFIED:20241030T043625Z
UID:16162-1730743200-1730754000@www.greatbarrier.co.nz
SUMMARY:Movie night - Six inches of Soil - with Island Screens
DESCRIPTION:Join us to see this newly released UK doco called Six inches of Soil.\nIt follows 3 young farmers on their pathway to put the ideas of regenerative farming into practice.\nWe will be joined in the room by local Aotea gardeners and part of the Aotea food resilience project:\nCaity Endt & Jo O’Reilly \nThere will be 2 screenings\n4 November at Barrier Social Club\n26 November at the Okiwi Community room \nEntry is $10 cash on the door – all welcome.\nMovie starts 7.15pm\nFabulous food available from 5.30pm\nFB: gbiislandscreens
URL:https://www.greatbarrier.co.nz/event/movie-night-six-inches-of-soil-with-island-screens/
LOCATION:Barrier Social Club
CATEGORIES:Community,Cultural,Entertainment,Evening activity,Food,Guest Speakers,Island Screens - Movie Club,Nature
ATTACH;FMTTYPE=image/jpeg:https://www.greatbarrier.co.nz/wp-content/uploads/2024/10/Six-inches-of-Soil-flyer-rotated.jpg
END:VEVENT
BEGIN:VEVENT
DTSTART;TZID=Pacific/Auckland:20241110T090000
DTEND;TZID=Pacific/Auckland:20241110T123000
DTSTAMP:20260425T012326
CREATED:20240911T031059Z
LAST-MODIFIED:20240911T031128Z
UID:14974-1731229200-1731241800@www.greatbarrier.co.nz
SUMMARY:The Winter Resilience Crop Garden - Grow Food Aotea
DESCRIPTION:
URL:https://www.greatbarrier.co.nz/event/the-winter-resilience-crop-garden-grow-food-aotea/
LOCATION:Okiwi Passion\, 10 Mabey Road\, Okiwi\, 0991\, New Zealand
CATEGORIES:Community,Workshops
ATTACH;FMTTYPE=image/png:https://www.greatbarrier.co.nz/wp-content/uploads/2024/09/10-November-Winter-Crop-Garden.png
END:VEVENT
BEGIN:VEVENT
DTSTART;VALUE=DATE:20241115
DTEND;VALUE=DATE:20241116
DTSTAMP:20260425T012326
CREATED:20241115T004748Z
LAST-MODIFIED:20241115T004748Z
UID:16591-1731628800-1731715199@www.greatbarrier.co.nz
SUMMARY:Aotea Bird Count
DESCRIPTION:
URL:https://www.greatbarrier.co.nz/event/aotea-bird-count/
CATEGORIES:Annual,Community,Conservation
END:VEVENT
BEGIN:VEVENT
DTSTART;TZID=Pacific/Auckland:20241115T113000
DTEND;TZID=Pacific/Auckland:20241115T153000
DTSTAMP:20260425T012326
CREATED:20240408T223448Z
LAST-MODIFIED:20240408T223448Z
UID:10755-1731670200-1731684600@www.greatbarrier.co.nz
SUMMARY:Driver & Vehicle Licensing
DESCRIPTION:
URL:https://www.greatbarrier.co.nz/event/driver-vehicle-licensing-3/
LOCATION:Auckland Council Service Centre
CATEGORIES:Community
ATTACH;FMTTYPE=image/png:https://www.greatbarrier.co.nz/wp-content/uploads/2024/04/Add-a-heading.png
END:VEVENT
BEGIN:VEVENT
DTSTART;TZID=Pacific/Auckland:20241116T093000
DTEND;TZID=Pacific/Auckland:20241116T110000
DTSTAMP:20260425T012326
CREATED:20241104T023756Z
LAST-MODIFIED:20241104T024054Z
UID:16281-1731749400-1731754800@www.greatbarrier.co.nz
SUMMARY:What's that bird?
DESCRIPTION:
URL:https://www.greatbarrier.co.nz/event/whats-that-bird/
LOCATION:OME Eco-hub
CATEGORIES:Community,Conservation,Workshops
ATTACH;FMTTYPE=image/jpeg:https://www.greatbarrier.co.nz/wp-content/uploads/2024/11/Whats-That-Bird-Flyer.jpg
END:VEVENT
BEGIN:VEVENT
DTSTART;TZID=Pacific/Auckland:20241118T170000
DTEND;TZID=Pacific/Auckland:20241118T210000
DTSTAMP:20260425T012326
CREATED:20241114T234031Z
LAST-MODIFIED:20241114T234031Z
UID:16421-1731949200-1731963600@www.greatbarrier.co.nz
SUMMARY:Island Screens GBI Movie Club 18/11/24
DESCRIPTION:SPECIAL EVENT ***ISLAND SCREENS** Maurice & I\nMonday 18 November 7.15pm @ Barrier Social Club\nWe will be joined in person by Jane Mahoney the co-producer & co-director of this unique kiwi doco.\nEntry is $10 on the door. Fab food from 5.30pm. All welcome ! \nHaving lost almost their entire life’s work in the 2011 Christchurch earthquakes\, there iconic NZ architects fight to save their finest building from demolition. The film includes rare archival footage & exclusive interviews. ….and reflects on the enduring importance of architecture in shaping and enriching communal life.
URL:https://www.greatbarrier.co.nz/event/island-screens-gbi-movie-club-18-11-24/
LOCATION:Barrier Social Club
CATEGORIES:Arts,Community,Entertainment,Evening activity,Guest Speakers,Island Screens - Movie Club
END:VEVENT
BEGIN:VEVENT
DTSTART;TZID=Pacific/Auckland:20241123T100000
DTEND;TZID=Pacific/Auckland:20241123T140000
DTSTAMP:20260425T012326
CREATED:20241115T011255Z
LAST-MODIFIED:20241115T011433Z
UID:16606-1732356000-1732370400@www.greatbarrier.co.nz
SUMMARY:Devonshire Teas at St Johns Church
DESCRIPTION:Fundraiser with Oppshop & Car Boot Sales – Every Saturday through mid Nov to mid Dec.
URL:https://www.greatbarrier.co.nz/event/devonshire-teas-at-st-johns-church-2/
LOCATION:St Johns Oppshop\, 558 Medland Road\, Great Barrier Island\, Auckland\, 0991\, New Zealand
CATEGORIES:Community,Market
END:VEVENT
BEGIN:VEVENT
DTSTART;TZID=Pacific/Auckland:20241124T100000
DTEND;TZID=Pacific/Auckland:20241124T150000
DTSTAMP:20260425T012326
CREATED:20241104T012606Z
LAST-MODIFIED:20241104T012613Z
UID:16239-1732442400-1732460400@www.greatbarrier.co.nz
SUMMARY:Glenfern Sanctuary Sunday Summer Series with Rodney Ngawaka
DESCRIPTION:Come\, be inspired and view the environment through the lens of local mana whenua. Please bring a picnic\, coffee and teas will be provided.
URL:https://www.greatbarrier.co.nz/event/glenfern-sanctuary-sunday-summer-series-with-rodney-ngawaka-4/
LOCATION:Glenfern Sanctuary\, Glenfern Road\, Port Fitzroy\, Auckland\, 0963\, New Zealand
CATEGORIES:Community,Cultural,Workshops
ATTACH;FMTTYPE=image/jpeg:https://www.greatbarrier.co.nz/wp-content/uploads/2024/10/Glenfern-Sanctuary_20Oct.jpg
ORGANIZER;CN="Glenfern Sanctuary":MAILTO:accounts@glenfern.org.nz
END:VEVENT
BEGIN:VEVENT
DTSTART;TZID=Pacific/Auckland:20241126T130000
DTEND;TZID=Pacific/Auckland:20241126T150000
DTSTAMP:20260425T012326
CREATED:20241115T002941Z
LAST-MODIFIED:20241115T002941Z
UID:16572-1732626000-1732633200@www.greatbarrier.co.nz
SUMMARY:Local board Ordinary Business Meeting
DESCRIPTION:
URL:https://www.greatbarrier.co.nz/event/local-board-ordinary-business-meeting-4/
LOCATION:Claris Conference Centre
CATEGORIES:Community,Local Government
END:VEVENT
END:VCALENDAR