BEGIN:VCALENDAR
VERSION:2.0
PRODID:-//Aotea Great Barrier Island - ECPv6.15.4//NONSGML v1.0//EN
CALSCALE:GREGORIAN
METHOD:PUBLISH
X-ORIGINAL-URL:https://www.greatbarrier.co.nz
X-WR-CALDESC:Events for Aotea Great Barrier Island
REFRESH-INTERVAL;VALUE=DURATION:PT1H
X-Robots-Tag:noindex
X-PUBLISHED-TTL:PT1H
BEGIN:VTIMEZONE
TZID:Pacific/Auckland
BEGIN:STANDARD
TZOFFSETFROM:+1300
TZOFFSETTO:+1200
TZNAME:NZST
DTSTART:20250405T140000
END:STANDARD
BEGIN:DAYLIGHT
TZOFFSETFROM:+1200
TZOFFSETTO:+1300
TZNAME:NZDT
DTSTART:20250927T140000
END:DAYLIGHT
BEGIN:STANDARD
TZOFFSETFROM:+1300
TZOFFSETTO:+1200
TZNAME:NZST
DTSTART:20260404T140000
END:STANDARD
BEGIN:DAYLIGHT
TZOFFSETFROM:+1200
TZOFFSETTO:+1300
TZNAME:NZDT
DTSTART:20260926T140000
END:DAYLIGHT
END:VTIMEZONE
BEGIN:VEVENT
DTSTART;TZID=Pacific/Auckland:20251121T160000
DTEND;TZID=Pacific/Auckland:20251217T170000
DTSTAMP:20260422T060341
CREATED:20251104T095934Z
LAST-MODIFIED:20251104T095934Z
UID:27443-1763740800-1765990800@www.greatbarrier.co.nz
SUMMARY:Weighted Weaves Exhibition
DESCRIPTION:Weighted Weaves Exhibition @ the Aotea Arts and History Village.  Opening 21st November 4pm – 6.00pm on until 17th December
URL:https://www.greatbarrier.co.nz/event/weighted-weaves-exhibition/
LOCATION:Aotea Arts & History Village\, 80 Hector Sanderson Road\, Claris\, 0991
CATEGORIES:Arts,Community,Cultural,Exhbition
ATTACH;FMTTYPE=image/jpeg:https://www.greatbarrier.co.nz/wp-content/uploads/2025/11/Weighted-Weaves-Ashlee-Adam1.jpeg
END:VEVENT
BEGIN:VEVENT
DTSTART;TZID=Pacific/Auckland:20251128T100000
DTEND;TZID=Pacific/Auckland:20251210T170000
DTSTAMP:20260422T060341
CREATED:20251104T100410Z
LAST-MODIFIED:20251104T100410Z
UID:27447-1764324000-1765386000@www.greatbarrier.co.nz
SUMMARY:Spectacular by Nature Exhibition
DESCRIPTION:Spectacular by Nature @ the Aotea Arts and History Village on the 28th November to 10th December
URL:https://www.greatbarrier.co.nz/event/spectacular-by-nature-exhibition/
LOCATION:Aotea Arts & History Village\, 80 Hector Sanderson Road\, Claris\, 0991
CATEGORIES:Arts,Community,Exhbition
ATTACH;FMTTYPE=image/jpeg:https://www.greatbarrier.co.nz/wp-content/uploads/2025/11/Spectacular-by-Nature.jpeg
END:VEVENT
BEGIN:VEVENT
DTSTART;TZID=Pacific/Auckland:20251130T100000
DTEND;TZID=Pacific/Auckland:20260228T170000
DTSTAMP:20260422T060341
CREATED:20251104T101053Z
LAST-MODIFIED:20251104T101205Z
UID:27450-1764496800-1772298000@www.greatbarrier.co.nz
SUMMARY:Finding Fanny Osborne Exhibition
DESCRIPTION:Finding Fanny Osborne – The Opening Talk on 30th Nov 2025 with writer and curator Kate Waterhouse.
URL:https://www.greatbarrier.co.nz/event/finding-fanny-osborne-exhibition/
LOCATION:Aotea Arts & History Village\, 80 Hector Sanderson Road\, Claris\, 0991
CATEGORIES:Arts,Exhibition
ATTACH;FMTTYPE=image/png:https://www.greatbarrier.co.nz/wp-content/uploads/2025/11/Finding-Fanny-O.png
END:VEVENT
BEGIN:VEVENT
DTSTART;TZID=Pacific/Auckland:20251207T213000
DTEND;TZID=Pacific/Auckland:20251207T230000
DTSTAMP:20260422T060341
CREATED:20251102T030739Z
LAST-MODIFIED:20251102T040059Z
UID:27345-1765143000-1765148400@www.greatbarrier.co.nz
SUMMARY:Stargazing with Good Heavens
DESCRIPTION:Did you know that Aotea Great Barrier is a Dark Sky Sanctuary? It is a fantastic place for stargazing!\n\nThe Good Heavens team offer seaside group stargazing experiences. Passionate and local Good Heavens guides will illuminate you on the magical display above and share astronomical facts and stellar stories. They bring a telescope\, binoculars and good cheer. So lean back comfortably in a moon chair to look up and see the thousands of stars visible in a Dark Sky Sanctuary.\n\nOther dates and private experiences available. \nCost: $65 child/$130 adult \nLocation is Medlands Beach\, exact location tbc upon booking. \nMore info: https://goodheavens.co.nz/
URL:https://www.greatbarrier.co.nz/event/stargazing-with-good-heavens-3/
LOCATION:Medlands Beach\, Oruawharo Bay\, 0991\, New Zealand
CATEGORIES:Conservation,Cultural,Dark Skies,Entertainment,Evening activity
ATTACH;FMTTYPE=image/png:https://www.greatbarrier.co.nz/wp-content/uploads/2025/10/goodheavens.png
ORGANIZER;CN="Good Heavens":MAILTO:info@goodheavens.co.nz
END:VEVENT
END:VCALENDAR