BEGIN:VCALENDAR
VERSION:2.0
PRODID:-//Aotea Great Barrier Island - ECPv6.15.4//NONSGML v1.0//EN
CALSCALE:GREGORIAN
METHOD:PUBLISH
X-WR-CALNAME:Aotea Great Barrier Island
X-ORIGINAL-URL:https://www.greatbarrier.co.nz
X-WR-CALDESC:Events for Aotea Great Barrier Island
REFRESH-INTERVAL;VALUE=DURATION:PT1H
X-Robots-Tag:noindex
X-PUBLISHED-TTL:PT1H
BEGIN:VTIMEZONE
TZID:Pacific/Auckland
BEGIN:STANDARD
TZOFFSETFROM:+1300
TZOFFSETTO:+1200
TZNAME:NZST
DTSTART:20250405T140000
END:STANDARD
BEGIN:DAYLIGHT
TZOFFSETFROM:+1200
TZOFFSETTO:+1300
TZNAME:NZDT
DTSTART:20250927T140000
END:DAYLIGHT
END:VTIMEZONE
BEGIN:VEVENT
DTSTART;TZID=Pacific/Auckland:20250403T133000
DTEND;TZID=Pacific/Auckland:20250403T143000
DTSTAMP:20260424T010258
CREATED:20250213T012203Z
LAST-MODIFIED:20250319T193535Z
UID:18110-1743687000-1743690600@www.greatbarrier.co.nz
SUMMARY:Somatic Movement & Mantra Meditation with Eunate
DESCRIPTION:
URL:https://www.greatbarrier.co.nz/event/somatic-movement-mantra-meditation-with-eunate-11/
LOCATION:Tryphena Hall\, 1 Medland Road\, Great Barrier Island\, 0991\, New Zealand
CATEGORIES:Yoga
END:VEVENT
BEGIN:VEVENT
DTSTART;TZID=Pacific/Auckland:20250403T190000
DTEND;TZID=Pacific/Auckland:20250403T230000
DTSTAMP:20260424T010258
CREATED:20250212T224922Z
LAST-MODIFIED:20250319T193435Z
UID:18089-1743706800-1743721200@www.greatbarrier.co.nz
SUMMARY:Jam Night at The Currach
DESCRIPTION:
URL:https://www.greatbarrier.co.nz/event/jam-night-at-the-currach-2/
LOCATION:The Currach Irish Pub\, 78 Blackwell Drive\, Great Barrier Island\, 0991\, New Zealand
CATEGORIES:Entertainment,Evening activity,Music
ORGANIZER;CN="Currach Irish Pub":MAILTO:Info@currachirishpub.co.nz
END:VEVENT
END:VCALENDAR