BEGIN:VCALENDAR
VERSION:2.0
PRODID:-//Aotea Great Barrier Island - ECPv6.15.4//NONSGML v1.0//EN
CALSCALE:GREGORIAN
METHOD:PUBLISH
X-WR-CALNAME:Aotea Great Barrier Island
X-ORIGINAL-URL:https://www.greatbarrier.co.nz
X-WR-CALDESC:Events for Aotea Great Barrier Island
REFRESH-INTERVAL;VALUE=DURATION:PT1H
X-Robots-Tag:noindex
X-PUBLISHED-TTL:PT1H
BEGIN:VTIMEZONE
TZID:Pacific/Auckland
BEGIN:STANDARD
TZOFFSETFROM:+1300
TZOFFSETTO:+1200
TZNAME:NZST
DTSTART:20250405T140000
END:STANDARD
BEGIN:DAYLIGHT
TZOFFSETFROM:+1200
TZOFFSETTO:+1300
TZNAME:NZDT
DTSTART:20250927T140000
END:DAYLIGHT
END:VTIMEZONE
BEGIN:VEVENT
DTSTART;TZID=Pacific/Auckland:20250307T100000
DTEND;TZID=Pacific/Auckland:20250328T170000
DTSTAMP:20260424T113405
CREATED:20250309T230918Z
LAST-MODIFIED:20250309T230918Z
UID:18511-1741341600-1743181200@www.greatbarrier.co.nz
SUMMARY:Gallery Exhibition: Dancing around the Barrier by Monique Endt
DESCRIPTION:
URL:https://www.greatbarrier.co.nz/event/gallery-exhibition-dancing-around-the-barrier-by-monique-endt/
LOCATION:Aotea Arts & History Village\, 80 Hector Sanderson Road\, Claris\, 0991
CATEGORIES:Arts,Community,Exhibition
ATTACH;FMTTYPE=image/jpeg:https://www.greatbarrier.co.nz/wp-content/uploads/2025/03/Monique-Endts.jpg
END:VEVENT
BEGIN:VEVENT
DTSTART;TZID=Pacific/Auckland:20250315T140000
DTEND;TZID=Pacific/Auckland:20250315T170000
DTSTAMP:20260424T113405
CREATED:20250214T001116Z
LAST-MODIFIED:20250214T001340Z
UID:18232-1742047200-1742058000@www.greatbarrier.co.nz
SUMMARY:Barrier Bush Pigs vs Katikati Stags Rugby Game
DESCRIPTION:
URL:https://www.greatbarrier.co.nz/event/barrier-bush-pigs-vs-katikati-stags-rugby-game/
LOCATION:Claris Sports Club\, 19 Whangaparapara Road\, Claris\, Great Barrier Island\, New Zealand
CATEGORIES:Sports
ORGANIZER;CN="Claris Sports Club":MAILTO:clarisclub@xtra.co.nz
END:VEVENT
END:VCALENDAR