BEGIN:VCALENDAR
VERSION:2.0
PRODID:-//Aotea Great Barrier Island - ECPv6.15.4//NONSGML v1.0//EN
CALSCALE:GREGORIAN
METHOD:PUBLISH
X-WR-CALNAME:Aotea Great Barrier Island
X-ORIGINAL-URL:https://www.greatbarrier.co.nz
X-WR-CALDESC:Events for Aotea Great Barrier Island
REFRESH-INTERVAL;VALUE=DURATION:PT1H
X-Robots-Tag:noindex
X-PUBLISHED-TTL:PT1H
BEGIN:VTIMEZONE
TZID:Pacific/Auckland
BEGIN:STANDARD
TZOFFSETFROM:+1300
TZOFFSETTO:+1200
TZNAME:NZST
DTSTART:20240406T140000
END:STANDARD
BEGIN:DAYLIGHT
TZOFFSETFROM:+1200
TZOFFSETTO:+1300
TZNAME:NZDT
DTSTART:20240928T140000
END:DAYLIGHT
BEGIN:STANDARD
TZOFFSETFROM:+1300
TZOFFSETTO:+1200
TZNAME:NZST
DTSTART:20250405T140000
END:STANDARD
BEGIN:DAYLIGHT
TZOFFSETFROM:+1200
TZOFFSETTO:+1300
TZNAME:NZDT
DTSTART:20250927T140000
END:DAYLIGHT
END:VTIMEZONE
BEGIN:VEVENT
DTSTART;TZID=Pacific/Auckland:20241206T160000
DTEND;TZID=Pacific/Auckland:20250206T160000
DTSTAMP:20260424T211609
CREATED:20241202T014556Z
LAST-MODIFIED:20241202T014556Z
UID:16611-1733500800-1738857600@www.greatbarrier.co.nz
SUMMARY:60 Days of Summer Art Exhibition
DESCRIPTION:Aotea community of artists come together for the end of year celebrating Summer exhibition.\n‘60 Days of Summer’ showcasing the broad range of talent that Aotea has to offer at Aotea Arts & History Village in Claris. Just 2 minutes walk from Claris Airport.\n6 Dec – 6 Feb
URL:https://www.greatbarrier.co.nz/event/60-days-of-summer-art-exhibition/
LOCATION:Aotea Arts & History Village\, 80 Hector Sanderson Road\, Claris\, 0991
CATEGORIES:Arts
ATTACH;FMTTYPE=image/jpeg:https://www.greatbarrier.co.nz/wp-content/uploads/2024/11/IMG_1227.jpeg
END:VEVENT
BEGIN:VEVENT
DTSTART;TZID=Pacific/Auckland:20250130T133000
DTEND;TZID=Pacific/Auckland:20250130T143000
DTSTAMP:20260424T211609
CREATED:20250119T052150Z
LAST-MODIFIED:20250119T052150Z
UID:17674-1738243800-1738247400@www.greatbarrier.co.nz
SUMMARY:Somatic Movement & Mantra Meditation with Eunate
DESCRIPTION:
URL:https://www.greatbarrier.co.nz/event/somatic-movement-mantra-meditation-with-eunate-9/
LOCATION:Tryphena Hall\, 1 Medland Road\, Great Barrier Island\, 0991\, New Zealand
CATEGORIES:Yoga
END:VEVENT
BEGIN:VEVENT
DTSTART;TZID=Pacific/Auckland:20250130T180000
DTEND;TZID=Pacific/Auckland:20250130T233000
DTSTAMP:20260424T211609
CREATED:20250119T052325Z
LAST-MODIFIED:20250119T053145Z
UID:17676-1738260000-1738279800@www.greatbarrier.co.nz
SUMMARY:Jam night at the Currach
DESCRIPTION:
URL:https://www.greatbarrier.co.nz/event/jam-night-at-the-currach/
LOCATION:The Currach Irish Pub\, 78 Blackwell Drive\, Great Barrier Island\, 0991\, New Zealand
CATEGORIES:Entertainment,Evening activity
END:VEVENT
END:VCALENDAR