BEGIN:VCALENDAR
VERSION:2.0
PRODID:-//Aotea Great Barrier Island - ECPv6.15.4//NONSGML v1.0//EN
CALSCALE:GREGORIAN
METHOD:PUBLISH
X-ORIGINAL-URL:https://www.greatbarrier.co.nz
X-WR-CALDESC:Events for Aotea Great Barrier Island
REFRESH-INTERVAL;VALUE=DURATION:PT1H
X-Robots-Tag:noindex
X-PUBLISHED-TTL:PT1H
BEGIN:VTIMEZONE
TZID:Pacific/Auckland
BEGIN:STANDARD
TZOFFSETFROM:+1300
TZOFFSETTO:+1200
TZNAME:NZST
DTSTART:20240406T140000
END:STANDARD
BEGIN:DAYLIGHT
TZOFFSETFROM:+1200
TZOFFSETTO:+1300
TZNAME:NZDT
DTSTART:20240928T140000
END:DAYLIGHT
END:VTIMEZONE
BEGIN:VEVENT
DTSTART;VALUE=DATE:20240725
DTEND;VALUE=DATE:20240729
DTSTAMP:20260422T080924
CREATED:20240618T030540Z
LAST-MODIFIED:20240618T031053Z
UID:12853-1721865600-1722211199@www.greatbarrier.co.nz
SUMMARY:Nature Nurture | Women's Wellbeing Retreat
DESCRIPTION:This retreat is for you if you are looking for a time of gentle reflection\nand nurturing in one of the world’s truly special places.\nWelcome Circle Cacao Ceremony\n2 Guided Nature Therapy Walks\nECONIDRA session\n2 Kundalini Yoga and Meditation\nSolo Walk with Sharing Circle\n“Doorways to Freedom” workshop\, by Gregory Liggins\nOptional walk to hot pools \nBookings and info Vicky@gbi.nz
URL:https://www.greatbarrier.co.nz/event/nature-nurture-womens-wellbeing-retreat/
LOCATION:Medlands Beach\, Oruawharo Bay\, 0991\, New Zealand
CATEGORIES:Walks,Workshops,Yoga
ATTACH;FMTTYPE=image/png:https://www.greatbarrier.co.nz/wp-content/uploads/2024/06/One-pager-Retreat-Vicky-1.png
ORGANIZER;CN="Vicky Kyan":MAILTO:vicky@gbi.nz
END:VEVENT
END:VCALENDAR