BEGIN:VCALENDAR
VERSION:2.0
PRODID:-//Aotea Great Barrier Island - ECPv6.15.4//NONSGML v1.0//EN
CALSCALE:GREGORIAN
METHOD:PUBLISH
X-WR-CALNAME:Aotea Great Barrier Island
X-ORIGINAL-URL:https://www.greatbarrier.co.nz
X-WR-CALDESC:Events for Aotea Great Barrier Island
REFRESH-INTERVAL;VALUE=DURATION:PT1H
X-Robots-Tag:noindex
X-PUBLISHED-TTL:PT1H
BEGIN:VTIMEZONE
TZID:Pacific/Auckland
BEGIN:STANDARD
TZOFFSETFROM:+1300
TZOFFSETTO:+1200
TZNAME:NZST
DTSTART:20210403T140000
END:STANDARD
BEGIN:DAYLIGHT
TZOFFSETFROM:+1200
TZOFFSETTO:+1300
TZNAME:NZDT
DTSTART:20210925T140000
END:DAYLIGHT
END:VTIMEZONE
BEGIN:VEVENT
DTSTART;TZID=Pacific/Auckland:20210419T100000
DTEND;TZID=Pacific/Auckland:20210502T160000
DTSTAMP:20260425T004210
CREATED:20210204T234540Z
LAST-MODIFIED:20210204T234833Z
UID:2543-1618826400-1619971200@www.greatbarrier.co.nz
SUMMARY:Janice Higgison - The Craftswoman Returns
DESCRIPTION:Art Exhibition
URL:https://www.greatbarrier.co.nz/event/janice-higgison-the-craftswoman-returns/
LOCATION:Aotea Arts & History Village\, 80 Hector Sanderson Road\, Claris\, 0991
CATEGORIES:Arts,Community
END:VEVENT
BEGIN:VEVENT
DTSTART;TZID=Pacific/Auckland:20210419T100000
DTEND;TZID=Pacific/Auckland:20210502T160000
DTSTAMP:20260425T004210
CREATED:20210204T235403Z
LAST-MODIFIED:20210204T235403Z
UID:2548-1618826400-1619971200@www.greatbarrier.co.nz
SUMMARY:Toni Cowern - Strength with a splash of vibrant colour!
DESCRIPTION:Art Exhibition
URL:https://www.greatbarrier.co.nz/event/toni-cowern-strength-with-a-splash-of-vibrant-colour/
LOCATION:Aotea Arts & History Village\, 80 Hector Sanderson Road\, Claris\, 0991
CATEGORIES:Arts,Community
END:VEVENT
BEGIN:VEVENT
DTSTART;TZID=Pacific/Auckland:20210424T130000
DTEND;TZID=Pacific/Auckland:20210424T170000
DTSTAMP:20260425T004210
CREATED:20210126T215215Z
LAST-MODIFIED:20210301T012200Z
UID:2460-1619269200-1619283600@www.greatbarrier.co.nz
SUMMARY:Aotea Pestival
DESCRIPTION:The Ecology Vision presents a one-day symposium with speakers from around NZ\, including Stewart Island/Rakiura.\nHear stories from islands undertaking large-scale pest suppression and eradication projects and learn about innovative technologies for pest suppression.\nVisit www.ecologyvision.co.nz or email ecologyvisiongbi@gmail.com
URL:https://www.greatbarrier.co.nz/event/barrier-pestival/
LOCATION:Claris Conference Centre
CATEGORIES:Beaches,Community,Nature
ATTACH;FMTTYPE=image/png:https://www.greatbarrier.co.nz/wp-content/uploads/2021/01/Ecology-Vision-Logo.png
END:VEVENT
BEGIN:VEVENT
DTSTART;TZID=Pacific/Auckland:20210424T200000
DTEND;TZID=Pacific/Auckland:20210425T000000
DTSTAMP:20260425T004210
CREATED:20210421T002618Z
LAST-MODIFIED:20210421T033032Z
UID:2929-1619294400-1619308800@www.greatbarrier.co.nz
SUMMARY:Aotea Sessions Presents - Footwork - ANZAC Weekend
DESCRIPTION:Come down to the Currach Irish Pub this Saturday for a night of dance music. We will have four DJs for your listening pleasure\, two of them hailing all the way down in Ohakune and its safe to say they will be dropping some dope beats and best of all its a long weekend so plenty of time to recover. \nDjs \nDamage \nMonsta \nNeski \nAdz \nFree Entry \n 
URL:https://www.greatbarrier.co.nz/event/aotea-sessions-presents-footwork-anzac-weekend/
CATEGORIES:Music
END:VEVENT
END:VCALENDAR