BEGIN:VCALENDAR
VERSION:2.0
PRODID:-//Aotea Great Barrier Island - ECPv6.15.4//NONSGML v1.0//EN
CALSCALE:GREGORIAN
METHOD:PUBLISH
X-WR-CALNAME:Aotea Great Barrier Island
X-ORIGINAL-URL:https://www.greatbarrier.co.nz
X-WR-CALDESC:Events for Aotea Great Barrier Island
REFRESH-INTERVAL;VALUE=DURATION:PT1H
X-Robots-Tag:noindex
X-PUBLISHED-TTL:PT1H
BEGIN:VTIMEZONE
TZID:Pacific/Auckland
BEGIN:STANDARD
TZOFFSETFROM:+1300
TZOFFSETTO:+1200
TZNAME:NZST
DTSTART:20210403T140000
END:STANDARD
BEGIN:DAYLIGHT
TZOFFSETFROM:+1200
TZOFFSETTO:+1300
TZNAME:NZDT
DTSTART:20210925T140000
END:DAYLIGHT
END:VTIMEZONE
BEGIN:VEVENT
DTSTART;TZID=Pacific/Auckland:20210110T120000
DTEND;TZID=Pacific/Auckland:20210110T170000
DTSTAMP:20260422T213301
CREATED:20210103T194938Z
LAST-MODIFIED:20210103T195156Z
UID:2291-1610280000-1610298000@www.greatbarrier.co.nz
SUMMARY:Aotea Brewing Sunday Sessions
DESCRIPTION:Aotea Brewing craft beer and wine on the bar\, food and live music every Sunday in January at the brewery\, located near Medland’s beach along Masons Road. \n  \n  \n  \n  \n 
URL:https://www.greatbarrier.co.nz/event/aotea-brewing-sunday-sessions/
LOCATION:Aotea Brewing – The Village\, 50A Mason Road\, 0991\, New Zealand
CATEGORIES:Food,Music
ORGANIZER;CN="Aotea Brewing":MAILTO:sarah@aoteabrewing.co.nz
END:VEVENT
BEGIN:VEVENT
DTSTART;TZID=Pacific/Auckland:20210110T140000
DTEND;TZID=Pacific/Auckland:20210110T210000
DTSTAMP:20260422T213301
CREATED:20210105T192547Z
LAST-MODIFIED:20210105T192547Z
UID:2310-1610287200-1610312400@www.greatbarrier.co.nz
SUMMARY:@BSC421 Garden Bar Music
DESCRIPTION:Join us for music from a few of the island’s musicians as you relax in the garden bar.\nOpen from 2pm.\nKitchen open from 3pm.\nEntry free.
URL:https://www.greatbarrier.co.nz/event/bsc421-garden-bar-music/
LOCATION:Barrier Social Club
CATEGORIES:Music
ATTACH;FMTTYPE=image/jpeg:https://www.greatbarrier.co.nz/wp-content/uploads/2021/01/20191229_161109-scaled.jpg
ORGANIZER;CN="Barrier Social Club":MAILTO:barriersocial@gmail.com
END:VEVENT
END:VCALENDAR